FILENAME: O4611146.SES.1154553.tif
QUADRANGLE_NAME: LIPPERT GULCH
QUADRANT: SE
WEST_LONGITUDE: -111 18 45.00000
EAST_LONGITUDE: -111 15 0.00000
NORTH_LATITUDE: 46 18 45.00000
SOUTH_LATITUDE: 46 15 0.00000
PRODUCTION_DATE: 2001 07 26
RASTER_ORDER: LEFT_RIGHT/TOP_BOTTOM
BAND_ORGANIZATION: SINGLE FILE
BAND_CONTENT: BLACK&WHITE
BAND_CONTENT: UNDEFINED
BAND_CONTENT: UNDEFINED
BITS_PER_PIXEL: 8
SAMPLES_AND_LINES: 5550 7590
HORIZONTAL_DATUM: NAD83
HORIZONTAL_COORDINATE_SYSTEM: UTM
COORDINATE_ZONE: 12
HORIZONTAL_UNITS: METERS
HORIZONTAL_RESOLUTION: 1.00000
SECONDARY_HORIZONTAL_DATUM: NAD27
XY_ORIGIN: 475530.00000 5129130.00000
SECONDARY_XY_ORIGIN: 475590.30000 5128919.14300
NATION: US
STATE: MT
NW_QUAD_CORNER_XY: 475938.99300 5128816.78700
NE_QUAD_CORNER_XY: 480751.19300 5128799.70500
SE_QUAD_CORNERY_XY: 480729.29300 5121855.18700
SW_QUAD_CORNER_XY: 475911.61800 5121872.27000
SECONDARY_NW_QUAD_XY: 475938.26200 5128598.61800
SECONDARY_NE_QUAD_XY: 480750.60800 5128581.53600
SECONDARY_SE_QUAD_XY: 480728.70800 5121637.05500
SECONDARY_SW_QUAD_XY: 475910.88700 5121654.13900
RMSE_XY: 2.54000
IMAGE_SOURCE: BLACK AND WHITE FILM
SOURCE_IMAGE_ID: NAPP 9180 112
SOURCE_IMAGE_DATE: 1997 09 07
SOURCE_DEM_DATE: 1980 00 00
AGENCY: WESTERN MAPPING CENTER (WMC)
PRODUCER: ANALYTICAL SURVEYS INC.
PRODUCTION_SYSTEM: ORBIT OR_RECTIFY V.5.2
COMPRESSION: UNDEFINED
STANDARD_VERSION: 1996 12
METADATA_DATE: 2001 07 30
DATA_FILE_SIZE: 42130050
BYTE_COUNT: 5550
