FILENAME: O4611146.SWS.1154554.tif
QUADRANGLE_NAME: LIPPERT GULCH
QUADRANT: SW
WEST_LONGITUDE: -111 22 30.00000
EAST_LONGITUDE: -111 18 45.00000
NORTH_LATITUDE: 46 18 45.00000
SOUTH_LATITUDE: 46 15 0.00000
PRODUCTION_DATE: 2001 07 27
RASTER_ORDER: LEFT_RIGHT/TOP_BOTTOM
BAND_ORGANIZATION: SINGLE FILE
BAND_CONTENT: BLACK&WHITE
BAND_CONTENT: UNDEFINED
BAND_CONTENT: UNDEFINED
BITS_PER_PIXEL: 8
SAMPLES_AND_LINES: 5520 7620
HORIZONTAL_DATUM: NAD83
HORIZONTAL_COORDINATE_SYSTEM: UTM
COORDINATE_ZONE: 12
HORIZONTAL_UNITS: METERS
HORIZONTAL_RESOLUTION: 1.00000
SECONDARY_HORIZONTAL_DATUM: NAD27
XY_ORIGIN: 470730.00000 5129160.00000
SECONDARY_XY_ORIGIN: 470790.39500 5128949.13100
NATION: US
STATE: MT
NW_QUAD_CORNER_XY: 471126.79400 5128837.66400
NE_QUAD_CORNER_XY: 475938.99300 5128816.78700
SE_QUAD_CORNERY_XY: 475911.61800 5121872.27000
SW_QUAD_CORNER_XY: 471093.94400 5121893.14900
SECONDARY_NW_QUAD_XY: 471125.91700 5128619.49600
SECONDARY_NE_QUAD_XY: 475938.26200 5128598.61800
SECONDARY_SE_QUAD_XY: 475910.88700 5121654.13900
SECONDARY_SW_QUAD_XY: 471093.06700 5121675.01900
RMSE_XY: 2.06000
IMAGE_SOURCE: BLACK AND WHITE FILM
SOURCE_IMAGE_ID: NAPP 9171 155
SOURCE_IMAGE_DATE: 1997 08 22
SOURCE_DEM_DATE: 1980 00 00
AGENCY: WESTERN MAPPING CENTER (WMC)
PRODUCER: ANALYTICAL SURVEYS INC.
PRODUCTION_SYSTEM: ORBIT OR_RECTIFY V.5.2
COMPRESSION: UNDEFINED
STANDARD_VERSION: 1996 12
METADATA_DATE: 2001 07 30
DATA_FILE_SIZE: 42067920
BYTE_COUNT: 5520
