FILENAME: O4611145.NES.1154547.tif
QUADRANGLE_NAME: HOLKER
QUADRANT: NE
WEST_LONGITUDE: -111 26 15.00000
EAST_LONGITUDE: -111 22 30.00000
NORTH_LATITUDE: 46 22 30.00000
SOUTH_LATITUDE: 46 18 45.00000
PRODUCTION_DATE: 2001 07 26
RASTER_ORDER: LEFT_RIGHT/TOP_BOTTOM
BAND_ORGANIZATION: SINGLE FILE
BAND_CONTENT: BLACK&WHITE
BAND_CONTENT: UNDEFINED
BAND_CONTENT: UNDEFINED
BITS_PER_PIXEL: 8
SAMPLES_AND_LINES: 5550 7590
HORIZONTAL_DATUM: NAD83
HORIZONTAL_COORDINATE_SYSTEM: UTM
COORDINATE_ZONE: 12
HORIZONTAL_UNITS: METERS
HORIZONTAL_RESOLUTION: 1.00000
SECONDARY_HORIZONTAL_DATUM: NAD27
XY_ORIGIN: 465930.00000 5136120.00000
SECONDARY_XY_ORIGIN: 465990.41600 5135908.94300
NATION: US
STATE: MT
NW_QUAD_CORNER_XY: 466352.96300 5135806.92700
NE_QUAD_CORNER_XY: 471159.67900 5135782.25600
SE_QUAD_CORNERY_XY: 471126.79400 5128837.66400
SW_QUAD_CORNER_XY: 466314.59700 5128862.33800
SECONDARY_NW_QUAD_XY: 466351.94000 5135588.72200
SECONDARY_NE_QUAD_XY: 471158.80200 5135564.05000
SECONDARY_SE_QUAD_XY: 471125.91700 5128619.49600
SECONDARY_SW_QUAD_XY: 466313.57400 5128644.17000
RMSE_XY: 1.40000
IMAGE_SOURCE: BLACK AND WHITE FILM
SOURCE_IMAGE_ID: NAPP 9171 176
SOURCE_IMAGE_DATE: 1997 08 22
SOURCE_DEM_DATE: 1980 00 00
AGENCY: WESTERN MAPPING CENTER (WMC)
PRODUCER: ANALYTICAL SURVEYS INC.
PRODUCTION_SYSTEM: ORBIT OR_RECTIFY V.5.2
COMPRESSION: UNDEFINED
STANDARD_VERSION: 1996 12
METADATA_DATE: 2001 07 30
DATA_FILE_SIZE: 42130050
BYTE_COUNT: 5550
