FILENAME: O4611145.NWS.1154548.tif
QUADRANGLE_NAME: HOLKER
QUADRANT: NW
WEST_LONGITUDE: -111 30 0.00000
EAST_LONGITUDE: -111 26 15.00000
NORTH_LATITUDE: 46 22 30.00000
SOUTH_LATITUDE: 46 18 45.00000
PRODUCTION_DATE: 2001 07 26
RASTER_ORDER: LEFT_RIGHT/TOP_BOTTOM
BAND_ORGANIZATION: SINGLE FILE
BAND_CONTENT: BLACK&WHITE
BAND_CONTENT: UNDEFINED
BAND_CONTENT: UNDEFINED
BITS_PER_PIXEL: 8
SAMPLES_AND_LINES: 5550 7620
HORIZONTAL_DATUM: NAD83
HORIZONTAL_COORDINATE_SYSTEM: UTM
COORDINATE_ZONE: 12
HORIZONTAL_UNITS: METERS
HORIZONTAL_RESOLUTION: 1.00000
SECONDARY_HORIZONTAL_DATUM: NAD27
XY_ORIGIN: 461130.00000 5136150.00000
SECONDARY_XY_ORIGIN: 461190.51000 5135938.94100
NATION: US
STATE: MT
NW_QUAD_CORNER_XY: 461546.24800 5135835.39400
NE_QUAD_CORNER_XY: 466352.96300 5135806.92700
SE_QUAD_CORNERY_XY: 466314.59700 5128862.33800
SW_QUAD_CORNER_XY: 461502.40100 5128890.80800
SECONDARY_NW_QUAD_XY: 461545.07900 5135617.18900
SECONDARY_NE_QUAD_XY: 466351.94000 5135588.72200
SECONDARY_SE_QUAD_XY: 466313.57400 5128644.17000
SECONDARY_SW_QUAD_XY: 461501.23200 5128672.64100
RMSE_XY: 1.03000
IMAGE_SOURCE: BLACK AND WHITE FILM
SOURCE_IMAGE_ID: NAPP 9181 30
SOURCE_IMAGE_DATE: 1997 09 09
SOURCE_DEM_DATE: 1980 00 00
AGENCY: WESTERN MAPPING CENTER (WMC)
PRODUCER: ANALYTICAL SURVEYS INC.
PRODUCTION_SYSTEM: ORBIT OR_RECTIFY V.5.2
COMPRESSION: UNDEFINED
STANDARD_VERSION: 1996 12
METADATA_DATE: 2001 07 30
DATA_FILE_SIZE: 42296550
BYTE_COUNT: 5550
