FILENAME: O4611144.SWS.1154534.tif
QUADRANGLE_NAME: TOWNSEND
QUADRANT: SW
WEST_LONGITUDE: -111 37 30.00000
EAST_LONGITUDE: -111 33 45.00000
NORTH_LATITUDE: 46 18 45.00000
SOUTH_LATITUDE: 46 15 0.00000
PRODUCTION_DATE: 2001 07 26
RASTER_ORDER: LEFT_RIGHT/TOP_BOTTOM
BAND_ORGANIZATION: SINGLE FILE
BAND_CONTENT: BLACK&WHITE
BAND_CONTENT: UNDEFINED
BAND_CONTENT: UNDEFINED
BITS_PER_PIXEL: 8
SAMPLES_AND_LINES: 5580 7620
HORIZONTAL_DATUM: NAD83
HORIZONTAL_COORDINATE_SYSTEM: UTM
COORDINATE_ZONE: 12
HORIZONTAL_UNITS: METERS
HORIZONTAL_RESOLUTION: 1.00000
SECONDARY_HORIZONTAL_DATUM: NAD27
XY_ORIGIN: 451440.00000 5129280.00000
SECONDARY_XY_ORIGIN: 451500.76900 5129069.07800
NATION: US
STATE: MT
NW_QUAD_CORNER_XY: 451878.01700 5128959.13500
NE_QUAD_CORNER_XY: 456690.20800 5128923.07300
SE_QUAD_CORNERY_XY: 456640.93200 5121978.56600
SW_QUAD_CORNER_XY: 451823.26500 5122014.63100
SECONDARY_NW_QUAD_XY: 451876.55600 5128740.97000
SECONDARY_NE_QUAD_XY: 456688.89300 5128704.90700
SECONDARY_SE_QUAD_XY: 456639.61700 5121760.43800
SECONDARY_SW_QUAD_XY: 451821.80400 5121796.50400
RMSE_XY: 2.07000
IMAGE_SOURCE: BLACK AND WHITE FILM
SOURCE_IMAGE_ID: NAPP 9181 114
SOURCE_IMAGE_DATE: 1997 09 09
SOURCE_IMAGE_ID: NAPP 9181 116
SOURCE_IMAGE_DATE: 1997 09 09
SOURCE_IMAGE_ID: NAPP 9181 133
SOURCE_IMAGE_DATE: 1997 09 09
SOURCE_DEM_DATE: 1980 00 00
AGENCY: WESTERN MAPPING CENTER (WMC)
PRODUCER: ANALYTICAL SURVEYS INC.
PRODUCTION_SYSTEM: ORBIT OR_RECTIFY V.5.2
COMPRESSION: UNDEFINED
STANDARD_VERSION: 1996 12
METADATA_DATE: 2001 07 30
DATA_FILE_SIZE: 42525180
BYTE_COUNT: 5580
