FILENAME: O4611143.NWS.1154528.tif
QUADRANGLE_NAME: GIANT HILL
QUADRANT: NW
WEST_LONGITUDE: -111 45 0.00000
EAST_LONGITUDE: -111 41 15.00000
NORTH_LATITUDE: 46 22 30.00000
SOUTH_LATITUDE: 46 18 45.00000
PRODUCTION_DATE: 2001 07 25
RASTER_ORDER: LEFT_RIGHT/TOP_BOTTOM
BAND_ORGANIZATION: SINGLE FILE
BAND_CONTENT: BLACK&WHITE
BAND_CONTENT: UNDEFINED
BAND_CONTENT: UNDEFINED
BITS_PER_PIXEL: 8
SAMPLES_AND_LINES: 5580 7620
HORIZONTAL_DATUM: NAD83
HORIZONTAL_COORDINATE_SYSTEM: UTM
COORDINATE_ZONE: 12
HORIZONTAL_UNITS: METERS
HORIZONTAL_RESOLUTION: 1.00000
SECONDARY_HORIZONTAL_DATUM: NAD27
XY_ORIGIN: 441870.00000 5136300.00000
SECONDARY_XY_ORIGIN: 441930.88300 5136088.89800
NATION: US
STATE: MT
NW_QUAD_CORNER_XY: 442319.41500 5135987.21900
NE_QUAD_CORNER_XY: 447126.11900 5135943.56900
SE_QUAD_CORNERY_XY: 447065.82800 5128998.99300
SW_QUAD_CORNER_XY: 442253.64300 5129042.64800
SECONDARY_NW_QUAD_XY: 442317.66100 5135769.01900
SECONDARY_NE_QUAD_XY: 447124.51100 5135725.36800
SECONDARY_SE_QUAD_XY: 447064.22100 5128780.83000
SECONDARY_SW_QUAD_XY: 442251.88900 5128824.48600
RMSE_XY: 2.06000
IMAGE_SOURCE: BLACK AND WHITE FILM
SOURCE_IMAGE_ID: NAPP 9181 194
SOURCE_IMAGE_DATE: 1997 09 09
SOURCE_IMAGE_ID: NAPP 9181 192
SOURCE_IMAGE_DATE: 1997 09 09
SOURCE_DEM_DATE: 1980 00 00
AGENCY: WESTERN MAPPING CENTER (WMC)
PRODUCER: ANALYTICAL SURVEYS INC.
PRODUCTION_SYSTEM: ORBIT OR_RECTIFY V.5.2
COMPRESSION: UNDEFINED
STANDARD_VERSION: 1996 12
METADATA_DATE: 2001 07 26
DATA_FILE_SIZE: 42525180
BYTE_COUNT: 5580
