FILENAME: O4611143.SWS.1154530.tif
QUADRANGLE_NAME: GIANT HILL
QUADRANT: SW
WEST_LONGITUDE: -111 45 0.00000
EAST_LONGITUDE: -111 41 15.00000
NORTH_LATITUDE: 46 18 45.00000
SOUTH_LATITUDE: 46 15 0.00000
PRODUCTION_DATE: 2001 07 25
RASTER_ORDER: LEFT_RIGHT/TOP_BOTTOM
BAND_ORGANIZATION: SINGLE FILE
BAND_CONTENT: BLACK&WHITE
BAND_CONTENT: UNDEFINED
BAND_CONTENT: UNDEFINED
BITS_PER_PIXEL: 8
SAMPLES_AND_LINES: 5580 7650
HORIZONTAL_DATUM: NAD83
HORIZONTAL_COORDINATE_SYSTEM: UTM
COORDINATE_ZONE: 12
HORIZONTAL_UNITS: METERS
HORIZONTAL_RESOLUTION: 1.00000
SECONDARY_HORIZONTAL_DATUM: NAD27
XY_ORIGIN: 441810.00000 5129370.00000
SECONDARY_XY_ORIGIN: 441870.95300 5129159.04700
NATION: US
STATE: MT
NW_QUAD_CORNER_XY: 442253.64300 5129042.64800
NE_QUAD_CORNER_XY: 447065.82800 5128998.99300
SE_QUAD_CORNERY_XY: 447005.60100 5122054.49300
SW_QUAD_CORNER_XY: 442187.93900 5122098.15200
SECONDARY_NW_QUAD_XY: 442251.88900 5128824.48600
SECONDARY_NE_QUAD_XY: 447064.22100 5128780.83000
SECONDARY_SE_QUAD_XY: 447003.99400 5121836.36800
SECONDARY_SW_QUAD_XY: 442186.18600 5121880.02800
RMSE_XY: 2.14000
IMAGE_SOURCE: BLACK AND WHITE FILM
SOURCE_IMAGE_ID: NAPP 9181 196
SOURCE_IMAGE_DATE: 1997 09 09
SOURCE_DEM_DATE: 1980 00 00
AGENCY: WESTERN MAPPING CENTER (WMC)
PRODUCER: ANALYTICAL SURVEYS INC.
PRODUCTION_SYSTEM: ORBIT OR_RECTIFY V.5.2
COMPRESSION: UNDEFINED
STANDARD_VERSION: 1996 12
METADATA_DATE: 2001 07 26
DATA_FILE_SIZE: 42692580
BYTE_COUNT: 5580
