FILENAME: O4611142.NWS.1153703.tif
QUADRANGLE_NAME: CROW CREEK FALLS
QUADRANT: NW
WEST_LONGITUDE: -111 52 30.00000
EAST_LONGITUDE: -111 48 45.00000
NORTH_LATITUDE: 46 22 30.00000
SOUTH_LATITUDE: 46 18 45.00000
PRODUCTION_DATE: 2001 07 30
RASTER_ORDER: LEFT_RIGHT/TOP_BOTTOM
BAND_ORGANIZATION: SINGLE FILE
BAND_CONTENT: BLACK&WHITE
BAND_CONTENT: UNDEFINED
BAND_CONTENT: UNDEFINED
BITS_PER_PIXEL: 8
SAMPLES_AND_LINES: 5580 7620
HORIZONTAL_DATUM: NAD83
HORIZONTAL_COORDINATE_SYSTEM: UTM
COORDINATE_ZONE: 12
HORIZONTAL_UNITS: METERS
HORIZONTAL_RESOLUTION: 1.00000
SECONDARY_HORIZONTAL_DATUM: NAD27
XY_ORIGIN: 432240.00000 5136390.00000
SECONDARY_XY_ORIGIN: 432301.13800 5136178.83200
NATION: US
STATE: MT
NW_QUAD_CORNER_XY: 432706.01700 5136085.90800
NE_QUAD_CORNER_XY: 437512.71400 5136034.66500
SE_QUAD_CORNERY_XY: 437441.46000 5129090.09900
SW_QUAD_CORNER_XY: 432629.28100 5129141.34700
SECONDARY_NW_QUAD_XY: 432703.97000 5135867.71100
SECONDARY_NE_QUAD_XY: 437510.81400 5135816.46700
SECONDARY_SE_QUAD_XY: 437439.56000 5128871.93800
SECONDARY_SW_QUAD_XY: 432627.23500 5128923.18700
RMSE_XY: 3.96000
IMAGE_SOURCE: BLACK AND WHITE FILM
SOURCE_IMAGE_ID: NAPP 11009 18
SOURCE_IMAGE_DATE: 1998 07 22
SOURCE_DEM_DATE: 1980 00 00
AGENCY: WESTERN MAPPING CENTER (WMC)
PRODUCER: ANALYTICAL SURVEYS INC.
PRODUCTION_SYSTEM: ORBIT OR_RECTIFY V.5.2
COMPRESSION: UNDEFINED
STANDARD_VERSION: 1996 12
METADATA_DATE: 2001 08 01
DATA_FILE_SIZE: 42525180
BYTE_COUNT: 5580
