FILENAME: O4611142.SES.1153704.tif
QUADRANGLE_NAME: CROW CREEK FALLS
QUADRANT: SE
WEST_LONGITUDE: -111 48 45.00000
EAST_LONGITUDE: -111 45 0.00000
NORTH_LATITUDE: 46 18 45.00000
SOUTH_LATITUDE: 46 15 0.00000
PRODUCTION_DATE: 2001 07 30
RASTER_ORDER: LEFT_RIGHT/TOP_BOTTOM
BAND_ORGANIZATION: SINGLE FILE
BAND_CONTENT: BLACK&WHITE
BAND_CONTENT: UNDEFINED
BAND_CONTENT: UNDEFINED
BITS_PER_PIXEL: 8
SAMPLES_AND_LINES: 5580 7620
HORIZONTAL_DATUM: NAD83
HORIZONTAL_COORDINATE_SYSTEM: UTM
COORDINATE_ZONE: 12
HORIZONTAL_UNITS: METERS
HORIZONTAL_RESOLUTION: 1.00000
SECONDARY_HORIZONTAL_DATUM: NAD27
XY_ORIGIN: 436980.00000 5129400.00000
SECONDARY_XY_ORIGIN: 437041.07500 5129189.02000
NATION: US
STATE: MT
NW_QUAD_CORNER_XY: 437441.46000 5129090.09900
NE_QUAD_CORNER_XY: 442253.64300 5129042.64800
SE_QUAD_CORNERY_XY: 442187.93900 5122098.15200
SW_QUAD_CORNER_XY: 437370.28100 5122145.60700
SECONDARY_NW_QUAD_XY: 437439.56000 5128871.93800
SECONDARY_NE_QUAD_XY: 442251.88900 5128824.48600
SECONDARY_SE_QUAD_XY: 442186.18600 5121880.02800
SECONDARY_SW_QUAD_XY: 437368.38100 5121927.48400
RMSE_XY: 2.67000
IMAGE_SOURCE: BLACK AND WHITE FILM
SOURCE_IMAGE_ID: NAPP 9181 215
SOURCE_IMAGE_DATE: 1997 09 09
SOURCE_DEM_DATE: 1980 00 00
AGENCY: WESTERN MAPPING CENTER (WMC)
PRODUCER: ANALYTICAL SURVEYS INC.
PRODUCTION_SYSTEM: ORBIT OR_RECTIFY V.5.2
COMPRESSION: UNDEFINED
STANDARD_VERSION: 1996 12
METADATA_DATE: 2001 08 01
DATA_FILE_SIZE: 42525180
BYTE_COUNT: 5580
