FILENAME: O4611142.SWS.1153705.tif
QUADRANGLE_NAME: CROW CREEK FALLS
QUADRANT: SW
WEST_LONGITUDE: -111 52 30.00000
EAST_LONGITUDE: -111 48 45.00000
NORTH_LATITUDE: 46 18 45.00000
SOUTH_LATITUDE: 46 15 0.00000
PRODUCTION_DATE: 2001 07 30
RASTER_ORDER: LEFT_RIGHT/TOP_BOTTOM
BAND_ORGANIZATION: SINGLE FILE
BAND_CONTENT: BLACK&WHITE
BAND_CONTENT: UNDEFINED
BAND_CONTENT: UNDEFINED
BITS_PER_PIXEL: 8
SAMPLES_AND_LINES: 5580 7650
HORIZONTAL_DATUM: NAD83
HORIZONTAL_COORDINATE_SYSTEM: UTM
COORDINATE_ZONE: 12
HORIZONTAL_UNITS: METERS
HORIZONTAL_RESOLUTION: 1.00000
SECONDARY_HORIZONTAL_DATUM: NAD27
XY_ORIGIN: 432180.00000 5129460.00000
SECONDARY_XY_ORIGIN: 432241.19500 5129248.99100
NATION: US
STATE: MT
NW_QUAD_CORNER_XY: 432629.28100 5129141.34700
NE_QUAD_CORNER_XY: 437441.46000 5129090.09900
SE_QUAD_CORNERY_XY: 437370.28100 5122145.60700
SW_QUAD_CORNER_XY: 432552.62500 5122196.86000
SECONDARY_NW_QUAD_XY: 432627.23500 5128923.18700
SECONDARY_NE_QUAD_XY: 437439.56000 5128871.93800
SECONDARY_SE_QUAD_XY: 437368.38100 5121927.48400
SECONDARY_SW_QUAD_XY: 432550.58000 5121978.73800
RMSE_XY: 3.42000
IMAGE_SOURCE: BLACK AND WHITE FILM
SOURCE_IMAGE_ID: NAPP 11009 16
SOURCE_IMAGE_DATE: 1998 07 22
SOURCE_DEM_DATE: 1980 00 00
AGENCY: WESTERN MAPPING CENTER (WMC)
PRODUCER: ANALYTICAL SURVEYS INC.
PRODUCTION_SYSTEM: ORBIT OR_RECTIFY V.5.2
COMPRESSION: UNDEFINED
STANDARD_VERSION: 1996 12
METADATA_DATE: 2001 08 01
DATA_FILE_SIZE: 42692580
BYTE_COUNT: 5580
