FILENAME: O4611141.NWS.1153727.tif
QUADRANGLE_NAME: ELKHORN
QUADRANT: NW
WEST_LONGITUDE: -112 0 0.00000
EAST_LONGITUDE: -111 56 15.00000
NORTH_LATITUDE: 46 22 30.00000
SOUTH_LATITUDE: 46 18 45.00000
PRODUCTION_DATE: 2001 07 31
RASTER_ORDER: LEFT_RIGHT/TOP_BOTTOM
BAND_ORGANIZATION: SINGLE FILE
BAND_CONTENT: BLACK&WHITE
BAND_CONTENT: UNDEFINED
BAND_CONTENT: UNDEFINED
BITS_PER_PIXEL: 8
SAMPLES_AND_LINES: 5580 7650
HORIZONTAL_DATUM: NAD83
HORIZONTAL_COORDINATE_SYSTEM: UTM
COORDINATE_ZONE: 12
HORIZONTAL_UNITS: METERS
HORIZONTAL_RESOLUTION: 1.00000
SECONDARY_HORIZONTAL_DATUM: NAD27
XY_ORIGIN: 422640.00000 5136510.00000
SECONDARY_XY_ORIGIN: 422701.39100 5136298.76400
NATION: US
STATE: MT
NW_QUAD_CORNER_XY: 423092.63300 5136199.78200
NE_QUAD_CORNER_XY: 427899.32300 5136140.94700
SE_QUAD_CORNERY_XY: 427817.10500 5129196.39100
SW_QUAD_CORNER_XY: 423004.93300 5129255.23200
SECONDARY_NW_QUAD_XY: 423090.29400 5135981.58900
SECONDARY_NE_QUAD_XY: 427897.13000 5135922.75200
SECONDARY_SE_QUAD_XY: 427814.91300 5128978.23300
SECONDARY_SW_QUAD_XY: 423002.59400 5129037.07600
RMSE_XY: 3.71000
IMAGE_SOURCE: BLACK AND WHITE FILM
SOURCE_IMAGE_ID: NAPP 11009 52
SOURCE_IMAGE_DATE: 1998 07 22
SOURCE_IMAGE_ID: NAPP 11009 29
SOURCE_IMAGE_DATE: 1998 07 22
SOURCE_DEM_DATE: 1997 00 00
AGENCY: WESTERN MAPPING CENTER (WMC)
PRODUCER: ANALYTICAL SURVEYS INC.
PRODUCTION_SYSTEM: ORBIT OR_RECTIFY V.5.2
COMPRESSION: UNDEFINED
STANDARD_VERSION: 1996 12
METADATA_DATE: 2001 08 01
DATA_FILE_SIZE: 42692580
BYTE_COUNT: 5580
