FILENAME: O4611136.SWS.1154506.tif
QUADRANGLE_NAME: TOWNSEND NE
QUADRANT: SW
WEST_LONGITUDE: -111 37 30.00000
EAST_LONGITUDE: -111 33 45.00000
NORTH_LATITUDE: 46 26 15.00000
SOUTH_LATITUDE: 46 22 30.00000
PRODUCTION_DATE: 2001 07 24
RASTER_ORDER: LEFT_RIGHT/TOP_BOTTOM
BAND_ORGANIZATION: SINGLE FILE
BAND_CONTENT: BLACK&WHITE
BAND_CONTENT: UNDEFINED
BAND_CONTENT: UNDEFINED
BITS_PER_PIXEL: 8
SAMPLES_AND_LINES: 5550 7620
HORIZONTAL_DATUM: NAD83
HORIZONTAL_COORDINATE_SYSTEM: UTM
COORDINATE_ZONE: 12
HORIZONTAL_UNITS: METERS
HORIZONTAL_RESOLUTION: 1.00000
SECONDARY_HORIZONTAL_DATUM: NAD27
XY_ORIGIN: 451560.00000 5143170.00000
SECONDARY_XY_ORIGIN: 451620.62300 5142958.76400
NATION: US
STATE: MT
NW_QUAD_CORNER_XY: 451987.69400 5142848.36900
NE_QUAD_CORNER_XY: 456788.91600 5142812.31500
SE_QUAD_CORNERY_XY: 456739.53600 5135867.65600
SW_QUAD_CORNER_XY: 451932.82700 5135903.71400
SECONDARY_NW_QUAD_XY: 451986.23200 5142630.13000
SECONDARY_NE_QUAD_XY: 456787.60000 5142594.07500
SECONDARY_SE_QUAD_XY: 456738.22100 5135649.45300
SECONDARY_SW_QUAD_XY: 451931.36500 5135685.51200
RMSE_XY: 0.92000
IMAGE_SOURCE: BLACK AND WHITE FILM
SOURCE_IMAGE_ID: NAPP 9181 110
SOURCE_IMAGE_DATE: 1997 09 09
SOURCE_DEM_DATE: 1993 00 00
AGENCY: WESTERN MAPPING CENTER (WMC)
PRODUCER: ANALYTICAL SURVEYS INC.
PRODUCTION_SYSTEM: ORBIT OR_RECTIFY V.5.2
COMPRESSION: UNDEFINED
STANDARD_VERSION: 1996 12
METADATA_DATE: 2001 07 26
DATA_FILE_SIZE: 42296550
BYTE_COUNT: 5550
