FILENAME: O4611135.NWS.1154524.tif
QUADRANGLE_NAME: WINSTON
QUADRANT: NW
WEST_LONGITUDE: -111 45 0.00000
EAST_LONGITUDE: -111 41 15.00000
NORTH_LATITUDE: 46 30 0.00000
SOUTH_LATITUDE: 46 26 15.00000
PRODUCTION_DATE: 2001 07 25
RASTER_ORDER: LEFT_RIGHT/TOP_BOTTOM
BAND_ORGANIZATION: SINGLE FILE
BAND_CONTENT: BLACK&WHITE
BAND_CONTENT: UNDEFINED
BAND_CONTENT: UNDEFINED
BITS_PER_PIXEL: 8
SAMPLES_AND_LINES: 5550 7620
HORIZONTAL_DATUM: NAD83
HORIZONTAL_COORDINATE_SYSTEM: UTM
COORDINATE_ZONE: 12
HORIZONTAL_UNITS: METERS
HORIZONTAL_RESOLUTION: 1.00000
SECONDARY_HORIZONTAL_DATUM: NAD27
XY_ORIGIN: 442020.00000 5150190.00000
SECONDARY_XY_ORIGIN: 442080.74200 5149978.60400
NATION: US
STATE: MT
NW_QUAD_CORNER_XY: 442451.16700 5149876.58600
NE_QUAD_CORNER_XY: 447246.89100 5149832.94500
SE_QUAD_CORNERY_XY: 447186.47400 5142888.21900
SW_QUAD_CORNER_XY: 442385.25700 5142931.86500
SECONDARY_NW_QUAD_XY: 442449.41300 5149658.31400
SECONDARY_NE_QUAD_XY: 447245.28300 5149614.67200
SECONDARY_SE_QUAD_XY: 447184.86500 5142669.98200
SECONDARY_SW_QUAD_XY: 442383.50200 5142713.62900
RMSE_XY: 2.33000
IMAGE_SOURCE: BLACK AND WHITE FILM
SOURCE_IMAGE_ID: NAPP 9181 190
SOURCE_IMAGE_DATE: 1997 09 09
SOURCE_DEM_DATE: 1993 00 00
AGENCY: WESTERN MAPPING CENTER (WMC)
PRODUCER: ANALYTICAL SURVEYS INC.
PRODUCTION_SYSTEM: ORBIT OR_RECTIFY V.5.2
COMPRESSION: UNDEFINED
STANDARD_VERSION: 1996 12
METADATA_DATE: 2001 07 26
DATA_FILE_SIZE: 42296550
BYTE_COUNT: 5550
