FILENAME: O4611134.NES.1153698.tif
QUADRANGLE_NAME: CASEY PEAK
QUADRANT: NE
WEST_LONGITUDE: -111 48 45.00000
EAST_LONGITUDE: -111 45 0.00000
NORTH_LATITUDE: 46 30 0.00000
SOUTH_LATITUDE: 46 26 15.00000
PRODUCTION_DATE: 2001 07 30
RASTER_ORDER: LEFT_RIGHT/TOP_BOTTOM
BAND_ORGANIZATION: SINGLE FILE
BAND_CONTENT: BLACK&WHITE
BAND_CONTENT: UNDEFINED
BAND_CONTENT: UNDEFINED
BITS_PER_PIXEL: 8
SAMPLES_AND_LINES: 5550 7650
HORIZONTAL_DATUM: NAD83
HORIZONTAL_COORDINATE_SYSTEM: UTM
COORDINATE_ZONE: 12
HORIZONTAL_UNITS: METERS
HORIZONTAL_RESOLUTION: 1.00000
SECONDARY_HORIZONTAL_DATUM: NAD27
XY_ORIGIN: 437220.00000 5150250.00000
SECONDARY_XY_ORIGIN: 437280.88300 5150038.56000
NATION: US
STATE: MT
NW_QUAD_CORNER_XY: 437655.44700 5149924.02200
NE_QUAD_CORNER_XY: 442451.16700 5149876.58600
SE_QUAD_CORNERY_XY: 442385.25700 5142931.86500
SW_QUAD_CORNER_XY: 437584.04300 5142979.30600
SECONDARY_NW_QUAD_XY: 437653.54600 5149705.75200
SECONDARY_NE_QUAD_XY: 442449.41300 5149658.31400
SECONDARY_SE_QUAD_XY: 442383.50200 5142713.62900
SECONDARY_SW_QUAD_XY: 437582.14300 5142761.07200
RMSE_XY: 1.93000
IMAGE_SOURCE: BLACK AND WHITE FILM
SOURCE_IMAGE_ID: NAPP 9181 221
SOURCE_IMAGE_DATE: 1997 09 09
SOURCE_IMAGE_ID: NAPP 9181 219
SOURCE_IMAGE_DATE: 1997 09 09
SOURCE_DEM_DATE: 1993 00 00
AGENCY: WESTERN MAPPING CENTER (WMC)
PRODUCER: ANALYTICAL SURVEYS INC.
PRODUCTION_SYSTEM: ORBIT OR_RECTIFY V.5.2
COMPRESSION: UNDEFINED
STANDARD_VERSION: 1996 12
METADATA_DATE: 2001 08 01
DATA_FILE_SIZE: 42463050
BYTE_COUNT: 5550
