FILENAME: O4611133.SES.1153724.tif
QUADRANGLE_NAME: CLANCY
QUADRANT: SE
WEST_LONGITUDE: -111 56 15.00000
EAST_LONGITUDE: -111 52 30.00000
NORTH_LATITUDE: 46 26 15.00000
SOUTH_LATITUDE: 46 22 30.00000
PRODUCTION_DATE: 2001 07 31
RASTER_ORDER: LEFT_RIGHT/TOP_BOTTOM
BAND_ORGANIZATION: SINGLE FILE
BAND_CONTENT: BLACK&WHITE
BAND_CONTENT: UNDEFINED
BAND_CONTENT: UNDEFINED
BITS_PER_PIXEL: 8
SAMPLES_AND_LINES: 5580 7650
HORIZONTAL_DATUM: NAD83
HORIZONTAL_COORDINATE_SYSTEM: UTM
COORDINATE_ZONE: 12
HORIZONTAL_UNITS: METERS
HORIZONTAL_RESOLUTION: 1.00000
SECONDARY_HORIZONTAL_DATUM: NAD27
XY_ORIGIN: 427530.00000 5143410.00000
SECONDARY_XY_ORIGIN: 427591.21300 5143198.63500
NATION: US
STATE: MT
NW_QUAD_CORNER_XY: 427981.62700 5143085.57700
NE_QUAD_CORNER_XY: 432782.83300 5143030.54400
SE_QUAD_CORNERY_XY: 432706.01700 5136085.90800
SW_QUAD_CORNER_XY: 427899.32300 5136140.94700
SECONDARY_NW_QUAD_XY: 427979.43400 5142867.34500
SECONDARY_NE_QUAD_XY: 432780.78600 5142812.31100
SECONDARY_SE_QUAD_XY: 432703.97000 5135867.71100
SECONDARY_SW_QUAD_XY: 427897.13000 5135922.75200
RMSE_XY: 1.69000
IMAGE_SOURCE: BLACK AND WHITE FILM
SOURCE_IMAGE_ID: NAPP 11009 27
SOURCE_IMAGE_DATE: 1998 07 22
SOURCE_DEM_DATE: 1980 00 00
AGENCY: WESTERN MAPPING CENTER (WMC)
PRODUCER: ANALYTICAL SURVEYS INC.
PRODUCTION_SYSTEM: ORBIT OR_RECTIFY V.5.2
COMPRESSION: UNDEFINED
STANDARD_VERSION: 1996 12
METADATA_DATE: 2001 08 01
DATA_FILE_SIZE: 42692580
BYTE_COUNT: 5580
