FILENAME: O4611133.SWS.1153725.tif
QUADRANGLE_NAME: CLANCY
QUADRANT: SW
WEST_LONGITUDE: -112 0 0.00000
EAST_LONGITUDE: -111 56 15.00000
NORTH_LATITUDE: 46 26 15.00000
SOUTH_LATITUDE: 46 22 30.00000
PRODUCTION_DATE: 2001 07 31
RASTER_ORDER: LEFT_RIGHT/TOP_BOTTOM
BAND_ORGANIZATION: SINGLE FILE
BAND_CONTENT: BLACK&WHITE
BAND_CONTENT: UNDEFINED
BAND_CONTENT: UNDEFINED
BITS_PER_PIXEL: 8
SAMPLES_AND_LINES: 5610 7650
HORIZONTAL_DATUM: NAD83
HORIZONTAL_COORDINATE_SYSTEM: UTM
COORDINATE_ZONE: 12
HORIZONTAL_UNITS: METERS
HORIZONTAL_RESOLUTION: 1.00000
SECONDARY_HORIZONTAL_DATUM: NAD27
XY_ORIGIN: 422700.00000 5143470.00000
SECONDARY_XY_ORIGIN: 422761.34600 5143258.59500
NATION: US
STATE: MT
NW_QUAD_CORNER_XY: 423180.42600 5143144.40600
NE_QUAD_CORNER_XY: 427981.62700 5143085.57700
SE_QUAD_CORNERY_XY: 427899.32300 5136140.94700
SW_QUAD_CORNER_XY: 423092.63300 5136199.78200
SECONDARY_NW_QUAD_XY: 423178.08600 5142926.17600
SECONDARY_NE_QUAD_XY: 427979.43400 5142867.34500
SECONDARY_SE_QUAD_XY: 427897.13000 5135922.75200
SECONDARY_SW_QUAD_XY: 423090.29400 5135981.58900
RMSE_XY: 2.00000
IMAGE_SOURCE: BLACK AND WHITE FILM
SOURCE_IMAGE_ID: NAPP 9182 59
SOURCE_IMAGE_DATE: 1997 09 09
SOURCE_DEM_DATE: 1980 00 00
AGENCY: WESTERN MAPPING CENTER (WMC)
PRODUCER: ANALYTICAL SURVEYS INC.
PRODUCTION_SYSTEM: ORBIT OR_RECTIFY V.5.2
COMPRESSION: UNDEFINED
STANDARD_VERSION: 1996 12
METADATA_DATE: 2001 08 01
DATA_FILE_SIZE: 42922110
BYTE_COUNT: 5610
