FILENAME: O4611128.NES.1154499.tif
QUADRANGLE_NAME: CANYON FERRY SE
QUADRANT: NE
WEST_LONGITUDE: -111 33 45.00000
EAST_LONGITUDE: -111 30 0.00000
NORTH_LATITUDE: 46 37 30.00000
SOUTH_LATITUDE: 46 33 45.00000
PRODUCTION_DATE: 2001 07 24
RASTER_ORDER: LEFT_RIGHT/TOP_BOTTOM
BAND_ORGANIZATION: SINGLE FILE
BAND_CONTENT: BLACK&WHITE
BAND_CONTENT: UNDEFINED
BAND_CONTENT: UNDEFINED
BITS_PER_PIXEL: 8
SAMPLES_AND_LINES: 5520 7620
HORIZONTAL_DATUM: NAD83
HORIZONTAL_COORDINATE_SYSTEM: UTM
COORDINATE_ZONE: 12
HORIZONTAL_UNITS: METERS
HORIZONTAL_RESOLUTION: 1.00000
SECONDARY_HORIZONTAL_DATUM: NAD27
XY_ORIGIN: 456510.00000 5163960.00000
SECONDARY_XY_ORIGIN: 456570.30700 5163748.19100
NATION: US
STATE: MT
NW_QUAD_CORNER_XY: 456937.36700 5163646.74300
NE_QUAD_CORNER_XY: 461722.09700 5163614.49500
SE_QUAD_CORNERY_XY: 461678.06600 5156669.60600
SW_QUAD_CORNER_XY: 456887.83200 5156701.85800
SECONDARY_NW_QUAD_XY: 456936.05000 5163428.39900
SECONDARY_NE_QUAD_XY: 461720.92700 5163396.15000
SECONDARY_SE_QUAD_XY: 461676.89600 5156451.29500
SECONDARY_SW_QUAD_XY: 456886.51500 5156483.54800
RMSE_XY: 2.54000
IMAGE_SOURCE: BLACK AND WHITE FILM
SOURCE_IMAGE_ID: NAPP 9181 61
SOURCE_IMAGE_DATE: 1997 09 09
SOURCE_DEM_DATE: 1993 00 00
AGENCY: WESTERN MAPPING CENTER (WMC)
PRODUCER: ANALYTICAL SURVEYS INC.
PRODUCTION_SYSTEM: ORBIT OR_RECTIFY V.5.2
COMPRESSION: UNDEFINED
STANDARD_VERSION: 1996 12
METADATA_DATE: 2001 07 25
DATA_FILE_SIZE: 42067920
BYTE_COUNT: 5520
