FILENAME: O4611128.SWS.1154502.tif
QUADRANGLE_NAME: CANYON FERRY SE
QUADRANT: SW
WEST_LONGITUDE: -111 37 30.00000
EAST_LONGITUDE: -111 33 45.00000
NORTH_LATITUDE: 46 33 45.00000
SOUTH_LATITUDE: 46 30 0.00000
PRODUCTION_DATE: 2001 07 24
RASTER_ORDER: LEFT_RIGHT/TOP_BOTTOM
BAND_ORGANIZATION: SINGLE FILE
BAND_CONTENT: BLACK&WHITE
BAND_CONTENT: UNDEFINED
BAND_CONTENT: UNDEFINED
BITS_PER_PIXEL: 8
SAMPLES_AND_LINES: 5520 7620
HORIZONTAL_DATUM: NAD83
HORIZONTAL_COORDINATE_SYSTEM: UTM
COORDINATE_ZONE: 12
HORIZONTAL_UNITS: METERS
HORIZONTAL_RESOLUTION: 1.00000
SECONDARY_HORIZONTAL_DATUM: NAD27
XY_ORIGIN: 451680.00000 5157060.00000
SECONDARY_XY_ORIGIN: 451740.48700 5156848.40000
NATION: US
STATE: MT
NW_QUAD_CORNER_XY: 452097.60000 5156737.90500
NE_QUAD_CORNER_XY: 456887.83200 5156701.85800
SE_QUAD_CORNERY_XY: 456838.34800 5149757.04800
SW_QUAD_CORNER_XY: 452042.61800 5149793.09900
SECONDARY_NW_QUAD_XY: 452096.13800 5156519.59500
SECONDARY_NE_QUAD_XY: 456886.51500 5156483.54800
SECONDARY_SE_QUAD_XY: 456837.03200 5149538.77300
SECONDARY_SW_QUAD_XY: 452041.15600 5149574.82500
RMSE_XY: 1.84000
IMAGE_SOURCE: BLACK AND WHITE FILM
SOURCE_IMAGE_ID: NAPP 9181 106
SOURCE_IMAGE_DATE: 1997 09 09
SOURCE_IMAGE_ID: NAPP 9181 108
SOURCE_IMAGE_DATE: 1997 09 09
SOURCE_DEM_DATE: 1993 00 00
AGENCY: WESTERN MAPPING CENTER (WMC)
PRODUCER: ANALYTICAL SURVEYS INC.
PRODUCTION_SYSTEM: ORBIT OR_RECTIFY V.5.2
COMPRESSION: UNDEFINED
STANDARD_VERSION: 1996 12
METADATA_DATE: 2001 07 25
DATA_FILE_SIZE: 42067920
BYTE_COUNT: 5520
