FILENAME: O4611127.NWS.1154520.tif
QUADRANGLE_NAME: CANYON FERRY SW
QUADRANT: NW
WEST_LONGITUDE: -111 45 0.00000
EAST_LONGITUDE: -111 41 15.00000
NORTH_LATITUDE: 46 37 30.00000
SOUTH_LATITUDE: 46 33 45.00000
PRODUCTION_DATE: 2001 07 25
RASTER_ORDER: LEFT_RIGHT/TOP_BOTTOM
BAND_ORGANIZATION: SINGLE FILE
BAND_CONTENT: BLACK&WHITE
BAND_CONTENT: UNDEFINED
BAND_CONTENT: UNDEFINED
BITS_PER_PIXEL: 8
SAMPLES_AND_LINES: 5550 7620
HORIZONTAL_DATUM: NAD83
HORIZONTAL_COORDINATE_SYSTEM: UTM
COORDINATE_ZONE: 12
HORIZONTAL_UNITS: METERS
HORIZONTAL_RESOLUTION: 1.00000
SECONDARY_HORIZONTAL_DATUM: NAD27
XY_ORIGIN: 442140.00000 5164080.00000
SECONDARY_XY_ORIGIN: 442200.66700 5163868.20400
NATION: US
STATE: MT
NW_QUAD_CORNER_XY: 442583.19600 5163766.25300
NE_QUAD_CORNER_XY: 447367.91600 5163722.62200
SE_QUAD_CORNERY_XY: 447307.37200 5156777.74600
SW_QUAD_CORNER_XY: 442517.14700 5156821.38200
SECONDARY_NW_QUAD_XY: 442581.44000 5163547.91200
SECONDARY_NE_QUAD_XY: 447366.30700 5163504.28000
SECONDARY_SE_QUAD_XY: 447305.76300 5156559.43800
SECONDARY_SW_QUAD_XY: 442515.39200 5156603.07500
RMSE_XY: 2.55000
IMAGE_SOURCE: BLACK AND WHITE FILM
SOURCE_IMAGE_ID: NAPP 9181 186
SOURCE_IMAGE_DATE: 1997 09 09
SOURCE_DEM_DATE: 1993 00 00
AGENCY: WESTERN MAPPING CENTER (WMC)
PRODUCER: ANALYTICAL SURVEYS INC.
PRODUCTION_SYSTEM: ORBIT OR_RECTIFY V.5.2
COMPRESSION: UNDEFINED
STANDARD_VERSION: 1996 12
METADATA_DATE: 2001 07 26
DATA_FILE_SIZE: 42296550
BYTE_COUNT: 5550
