FILENAME: O4611127.SWS.1154522.tif
QUADRANGLE_NAME: CANYON FERRY SW
QUADRANT: SW
WEST_LONGITUDE: -111 45 0.00000
EAST_LONGITUDE: -111 41 15.00000
NORTH_LATITUDE: 46 33 45.00000
SOUTH_LATITUDE: 46 30 0.00000
PRODUCTION_DATE: 2001 07 25
RASTER_ORDER: LEFT_RIGHT/TOP_BOTTOM
BAND_ORGANIZATION: SINGLE FILE
BAND_CONTENT: BLACK&WHITE
BAND_CONTENT: UNDEFINED
BAND_CONTENT: UNDEFINED
BITS_PER_PIXEL: 8
SAMPLES_AND_LINES: 5550 7650
HORIZONTAL_DATUM: NAD83
HORIZONTAL_COORDINATE_SYSTEM: UTM
COORDINATE_ZONE: 12
HORIZONTAL_UNITS: METERS
HORIZONTAL_RESOLUTION: 1.00000
SECONDARY_HORIZONTAL_DATUM: NAD27
XY_ORIGIN: 442080.00000 5157150.00000
SECONDARY_XY_ORIGIN: 442140.70400 5156938.40200
NATION: US
STATE: MT
NW_QUAD_CORNER_XY: 442517.14700 5156821.38200
NE_QUAD_CORNER_XY: 447307.37200 5156777.74600
SE_QUAD_CORNERY_XY: 447246.89100 5149832.94500
SW_QUAD_CORNER_XY: 442451.16700 5149876.58600
SECONDARY_NW_QUAD_XY: 442515.39200 5156603.07500
SECONDARY_NE_QUAD_XY: 447305.76300 5156559.43800
SECONDARY_SE_QUAD_XY: 447245.28300 5149614.67200
SECONDARY_SW_QUAD_XY: 442449.41300 5149658.31400
RMSE_XY: 1.21000
IMAGE_SOURCE: BLACK AND WHITE FILM
SOURCE_IMAGE_ID: NAPP 9181 188
SOURCE_IMAGE_DATE: 1997 09 09
SOURCE_DEM_DATE: 1993 00 00
AGENCY: WESTERN MAPPING CENTER (WMC)
PRODUCER: ANALYTICAL SURVEYS INC.
PRODUCTION_SYSTEM: ORBIT OR_RECTIFY V.5.2
COMPRESSION: UNDEFINED
STANDARD_VERSION: 1996 12
METADATA_DATE: 2001 07 26
DATA_FILE_SIZE: 42463050
BYTE_COUNT: 5550
