FILENAME: O4611126.NES.1153694.tif
QUADRANGLE_NAME: LOUISVILLE
QUADRANT: NE
WEST_LONGITUDE: -111 48 45.00000
EAST_LONGITUDE: -111 45 0.00000
NORTH_LATITUDE: 46 37 30.00000
SOUTH_LATITUDE: 46 33 45.00000
PRODUCTION_DATE: 2001 07 30
RASTER_ORDER: LEFT_RIGHT/TOP_BOTTOM
BAND_ORGANIZATION: SINGLE FILE
BAND_CONTENT: BLACK&WHITE
BAND_CONTENT: UNDEFINED
BAND_CONTENT: UNDEFINED
BITS_PER_PIXEL: 8
SAMPLES_AND_LINES: 5550 7650
HORIZONTAL_DATUM: NAD83
HORIZONTAL_COORDINATE_SYSTEM: UTM
COORDINATE_ZONE: 12
HORIZONTAL_UNITS: METERS
HORIZONTAL_RESOLUTION: 1.00000
SECONDARY_HORIZONTAL_DATUM: NAD27
XY_ORIGIN: 437340.00000 5164140.00000
SECONDARY_XY_ORIGIN: 437400.81600 5163928.16400
NATION: US
STATE: MT
NW_QUAD_CORNER_XY: 437798.47900 5163813.67800
NE_QUAD_CORNER_XY: 442583.19600 5163766.25300
SE_QUAD_CORNERY_XY: 442517.14700 5156821.38200
SW_QUAD_CORNER_XY: 437726.92600 5156868.81300
SECONDARY_NW_QUAD_XY: 437796.57700 5163595.33900
SECONDARY_NE_QUAD_XY: 442581.44000 5163547.91200
SECONDARY_SE_QUAD_XY: 442515.39200 5156603.07500
SECONDARY_SW_QUAD_XY: 437725.02400 5156650.50800
RMSE_XY: 1.40000
IMAGE_SOURCE: BLACK AND WHITE FILM
SOURCE_IMAGE_ID: NAPP 9181 225
SOURCE_IMAGE_DATE: 1997 09 09
SOURCE_DEM_DATE: 1993 00 00
AGENCY: WESTERN MAPPING CENTER (WMC)
PRODUCER: ANALYTICAL SURVEYS INC.
PRODUCTION_SYSTEM: ORBIT OR_RECTIFY V.5.2
COMPRESSION: UNDEFINED
STANDARD_VERSION: 1996 12
METADATA_DATE: 2001 08 01
DATA_FILE_SIZE: 42463050
BYTE_COUNT: 5550
