FILENAME: O4611120.NES.1154495.tif
QUADRANGLE_NAME: HELLGATE GULCH
QUADRANT: NE
WEST_LONGITUDE: -111 33 45.00000
EAST_LONGITUDE: -111 30 0.00000
NORTH_LATITUDE: 46 45 0.00000
SOUTH_LATITUDE: 46 41 15.00000
PRODUCTION_DATE: 2001 07 24
RASTER_ORDER: LEFT_RIGHT/TOP_BOTTOM
BAND_ORGANIZATION: SINGLE FILE
BAND_CONTENT: BLACK&WHITE
BAND_CONTENT: UNDEFINED
BAND_CONTENT: UNDEFINED
BITS_PER_PIXEL: 8
SAMPLES_AND_LINES: 5520 7620
HORIZONTAL_DATUM: NAD83
HORIZONTAL_COORDINATE_SYSTEM: UTM
COORDINATE_ZONE: 12
HORIZONTAL_UNITS: METERS
HORIZONTAL_RESOLUTION: 1.00000
SECONDARY_HORIZONTAL_DATUM: NAD27
XY_ORIGIN: 456600.00000 5177850.00000
SECONDARY_XY_ORIGIN: 456660.16200 5177637.77600
NATION: US
STATE: MT
NW_QUAD_CORNER_XY: 457036.59200 5177536.73900
NE_QUAD_CORNER_XY: 461810.29700 5177504.49900
SE_QUAD_CORNERY_XY: 461766.17400 5170559.45900
SW_QUAD_CORNER_XY: 456986.95400 5170591.70300
SECONDARY_NW_QUAD_XY: 457035.27500 5177318.33000
SECONDARY_NE_QUAD_XY: 461809.12600 5177286.08900
SECONDARY_SE_QUAD_XY: 461765.00300 5170341.08100
SECONDARY_SW_QUAD_XY: 456985.63700 5170373.32600
RMSE_XY: 4.79000
IMAGE_SOURCE: BLACK AND WHITE FILM
SOURCE_IMAGE_ID: NAPP 9181 65
SOURCE_IMAGE_DATE: 1997 09 09
SOURCE_IMAGE_ID: NAPP 9181 63
SOURCE_IMAGE_DATE: 1997 09 09
SOURCE_DEM_DATE: 1993 00 00
AGENCY: WESTERN MAPPING CENTER (WMC)
PRODUCER: ANALYTICAL SURVEYS INC.
PRODUCTION_SYSTEM: ORBIT OR_RECTIFY V.5.2
COMPRESSION: UNDEFINED
STANDARD_VERSION: 1996 12
METADATA_DATE: 2001 07 25
DATA_FILE_SIZE: 42067920
BYTE_COUNT: 5520
