FILENAME: O4611119.NES.1154515.tif
QUADRANGLE_NAME: CANYON FERRY
QUADRANT: NE
WEST_LONGITUDE: -111 41 15.00000
EAST_LONGITUDE: -111 37 30.00000
NORTH_LATITUDE: 46 45 0.00000
SOUTH_LATITUDE: 46 41 15.00000
PRODUCTION_DATE: 2001 07 19
RASTER_ORDER: LEFT_RIGHT/TOP_BOTTOM
BAND_ORGANIZATION: SINGLE FILE
BAND_CONTENT: BLACK&WHITE
BAND_CONTENT: UNDEFINED
BAND_CONTENT: UNDEFINED
BITS_PER_PIXEL: 8
SAMPLES_AND_LINES: 5520 7620
HORIZONTAL_DATUM: NAD83
HORIZONTAL_COORDINATE_SYSTEM: UTM
COORDINATE_ZONE: 12
HORIZONTAL_UNITS: METERS
HORIZONTAL_RESOLUTION: 1.00000
SECONDARY_HORIZONTAL_DATUM: NAD27
XY_ORIGIN: 447060.00000 5177940.00000
SECONDARY_XY_ORIGIN: 447120.44900 5177727.79800
NATION: US
STATE: MT
NW_QUAD_CORNER_XY: 447489.19300 5177612.59900
NE_QUAD_CORNER_XY: 452262.89100 5177572.77300
SE_QUAD_CORNERY_XY: 452207.73700 5170627.74100
SW_QUAD_CORNER_XY: 447428.52300 5170667.57300
SECONDARY_NW_QUAD_XY: 447487.58300 5177394.19200
SECONDARY_NE_QUAD_XY: 452261.42800 5177354.36400
SECONDARY_SE_QUAD_XY: 452206.27400 5170409.36500
SECONDARY_SW_QUAD_XY: 447426.91400 5170449.19800
RMSE_XY: 4.42000
IMAGE_SOURCE: BLACK AND WHITE FILM
SOURCE_IMAGE_ID: NAPP 9181 147
SOURCE_IMAGE_DATE: 1997 09 09
SOURCE_IMAGE_ID: NAPP 9181 145
SOURCE_IMAGE_DATE: 1997 09 09
SOURCE_IMAGE_ID: NAPP 9181 149
SOURCE_IMAGE_DATE: 1997 09 09
SOURCE_DEM_DATE: 1993 00 00
AGENCY: WESTERN MAPPING CENTER (WMC)
PRODUCER: ANALYTICAL SURVEYS INC.
PRODUCTION_SYSTEM: ORBIT OR_RECTIFY V.5.2
COMPRESSION: UNDEFINED
STANDARD_VERSION: 1996 12
METADATA_DATE: 2001 07 23
DATA_FILE_SIZE: 42067920
BYTE_COUNT: 5520
