FILENAME: O4611119.NWS.1154516.tif
QUADRANGLE_NAME: CANYON FERRY
QUADRANT: NW
WEST_LONGITUDE: -111 45 0.00000
EAST_LONGITUDE: -111 41 15.00000
NORTH_LATITUDE: 46 45 0.00000
SOUTH_LATITUDE: 46 41 15.00000
PRODUCTION_DATE: 2001 07 19
RASTER_ORDER: LEFT_RIGHT/TOP_BOTTOM
BAND_ORGANIZATION: SINGLE FILE
BAND_CONTENT: BLACK&WHITE
BAND_CONTENT: UNDEFINED
BAND_CONTENT: UNDEFINED
BITS_PER_PIXEL: 8
SAMPLES_AND_LINES: 5550 7620
HORIZONTAL_DATUM: NAD83
HORIZONTAL_COORDINATE_SYSTEM: UTM
COORDINATE_ZONE: 12
HORIZONTAL_UNITS: METERS
HORIZONTAL_RESOLUTION: 1.00000
SECONDARY_HORIZONTAL_DATUM: NAD27
XY_ORIGIN: 442260.00000 5177970.00000
SECONDARY_XY_ORIGIN: 442320.59400 5177757.81000
NATION: US
STATE: MT
NW_QUAD_CORNER_XY: 442715.49900 5177656.21900
NE_QUAD_CORNER_XY: 447489.19300 5177612.59900
SE_QUAD_CORNERY_XY: 447428.52300 5170667.57300
SW_QUAD_CORNER_XY: 442649.31300 5170711.19800
SECONDARY_NW_QUAD_XY: 442713.74300 5177437.81300
SECONDARY_NE_QUAD_XY: 447487.58300 5177394.19200
SECONDARY_SE_QUAD_XY: 447426.91400 5170449.19800
SECONDARY_SW_QUAD_XY: 442647.55700 5170492.82500
RMSE_XY: 4.21000
IMAGE_SOURCE: BLACK AND WHITE FILM
SOURCE_IMAGE_ID: NAPP 9181 182
SOURCE_IMAGE_DATE: 1997 09 09
SOURCE_IMAGE_ID: NAPP 9181 184
SOURCE_IMAGE_DATE: 1997 09 09
SOURCE_IMAGE_ID: NAPP 9181 180
SOURCE_IMAGE_DATE: 1997 09 09
SOURCE_DEM_DATE: 1993 00 00
AGENCY: WESTERN MAPPING CENTER (WMC)
PRODUCER: ANALYTICAL SURVEYS INC.
PRODUCTION_SYSTEM: ORBIT OR_RECTIFY V.5.2
COMPRESSION: UNDEFINED
STANDARD_VERSION: 1996 12
METADATA_DATE: 2001 07 23
DATA_FILE_SIZE: 42296550
BYTE_COUNT: 5550
