FILENAME: O4611110.NWS.1154572.tif
QUADRANGLE_NAME: NELSON
QUADRANT: NW
WEST_LONGITUDE: -111 52 30.00000
EAST_LONGITUDE: -111 48 45.00000
NORTH_LATITUDE: 46 52 30.00000
SOUTH_LATITUDE: 46 48 45.00000
PRODUCTION_DATE: 2001 07 18
RASTER_ORDER: LEFT_RIGHT/TOP_BOTTOM
BAND_ORGANIZATION: SINGLE FILE
BAND_CONTENT: BLACK&WHITE
BAND_CONTENT: UNDEFINED
BAND_CONTENT: UNDEFINED
BITS_PER_PIXEL: 8
SAMPLES_AND_LINES: 5520 7620
HORIZONTAL_DATUM: NAD83
HORIZONTAL_COORDINATE_SYSTEM: UTM
COORDINATE_ZONE: 12
HORIZONTAL_UNITS: METERS
HORIZONTAL_RESOLUTION: 1.00000
SECONDARY_HORIZONTAL_DATUM: NAD27
XY_ORIGIN: 432870.00000 5191950.00000
SECONDARY_XY_ORIGIN: 432930.82200 5191737.38600
NATION: US
STATE: MT
NW_QUAD_CORNER_XY: 433322.80100 5191645.07900
NE_QUAD_CORNER_XY: 438085.43700 5191593.88600
SE_QUAD_CORNERY_XY: 438013.58600 5184648.72200
SW_QUAD_CORNER_XY: 433245.42200 5184699.92200
SECONDARY_NW_QUAD_XY: 433320.75100 5191426.61400
SECONDARY_NE_QUAD_XY: 438083.53400 5191375.42000
SECONDARY_SE_QUAD_XY: 438011.68300 5184430.28600
SECONDARY_SW_QUAD_XY: 433243.37300 5184481.48800
RMSE_XY: 2.46000
IMAGE_SOURCE: BLACK AND WHITE FILM
SOURCE_IMAGE_ID: NAPP 9181 260
SOURCE_IMAGE_DATE: 1997 09 09
SOURCE_IMAGE_ID: NAPP 9182 18
SOURCE_IMAGE_DATE: 1997 09 09
SOURCE_IMAGE_ID: NAPP 9181 258
SOURCE_IMAGE_DATE: 1997 09 09
SOURCE_IMAGE_ID: NAPP 9181 262
SOURCE_IMAGE_DATE: 1997 09 09
SOURCE_DEM_DATE: 1993 00 00
AGENCY: WESTERN MAPPING CENTER (WMC)
PRODUCER: ANALYTICAL SURVEYS INC.
PRODUCTION_SYSTEM: ORBIT OR_RECTIFY V.5.2
COMPRESSION: UNDEFINED
STANDARD_VERSION: 1996 12
METADATA_DATE: 2001 07 20
DATA_FILE_SIZE: 42067920
BYTE_COUNT: 5520
