FILENAME: O4611110.SES.1154573.tif
QUADRANGLE_NAME: NELSON
QUADRANT: SE
WEST_LONGITUDE: -111 48 45.00000
EAST_LONGITUDE: -111 45 0.00000
NORTH_LATITUDE: 46 48 45.00000
SOUTH_LATITUDE: 46 45 0.00000
PRODUCTION_DATE: 2001 07 18
RASTER_ORDER: LEFT_RIGHT/TOP_BOTTOM
BAND_ORGANIZATION: SINGLE FILE
BAND_CONTENT: BLACK&WHITE
BAND_CONTENT: UNDEFINED
BAND_CONTENT: UNDEFINED
BITS_PER_PIXEL: 8
SAMPLES_AND_LINES: 5550 7620
HORIZONTAL_DATUM: NAD83
HORIZONTAL_COORDINATE_SYSTEM: UTM
COORDINATE_ZONE: 12
HORIZONTAL_UNITS: METERS
HORIZONTAL_RESOLUTION: 1.00000
SECONDARY_HORIZONTAL_DATUM: NAD27
XY_ORIGIN: 437550.00000 5184960.00000
SECONDARY_XY_ORIGIN: 437610.71300 5184747.59300
NATION: US
STATE: MT
NW_QUAD_CORNER_XY: 438013.58600 5184648.72200
NE_QUAD_CORNER_XY: 442781.75400 5184601.31500
SE_QUAD_CORNERY_XY: 442715.49900 5177656.21900
SW_QUAD_CORNER_XY: 437941.80900 5177703.63300
SECONDARY_NW_QUAD_XY: 438011.68300 5184430.28600
SECONDARY_NE_QUAD_XY: 442779.99700 5184382.87800
SECONDARY_SE_QUAD_XY: 442713.74300 5177437.81300
SECONDARY_SW_QUAD_XY: 437939.90700 5177485.22800
RMSE_XY: 1.33000
IMAGE_SOURCE: BLACK AND WHITE FILM
SOURCE_IMAGE_ID: NAPP 9181 231
SOURCE_IMAGE_DATE: 1997 09 09
SOURCE_DEM_DATE: 1993 00 00
AGENCY: WESTERN MAPPING CENTER (WMC)
PRODUCER: ANALYTICAL SURVEYS INC.
PRODUCTION_SYSTEM: ORBIT OR_RECTIFY V.5.2
COMPRESSION: UNDEFINED
STANDARD_VERSION: 1996 12
METADATA_DATE: 2001 07 20
DATA_FILE_SIZE: 42296550
BYTE_COUNT: 5550
