FILENAME: O4611110.SWS.1154574.tif
QUADRANGLE_NAME: NELSON
QUADRANT: SW
WEST_LONGITUDE: -111 52 30.00000
EAST_LONGITUDE: -111 48 45.00000
NORTH_LATITUDE: 46 48 45.00000
SOUTH_LATITUDE: 46 45 0.00000
PRODUCTION_DATE: 2001 07 18
RASTER_ORDER: LEFT_RIGHT/TOP_BOTTOM
BAND_ORGANIZATION: SINGLE FILE
BAND_CONTENT: BLACK&WHITE
BAND_CONTENT: UNDEFINED
BAND_CONTENT: UNDEFINED
BITS_PER_PIXEL: 8
SAMPLES_AND_LINES: 5550 7650
HORIZONTAL_DATUM: NAD83
HORIZONTAL_COORDINATE_SYSTEM: UTM
COORDINATE_ZONE: 12
HORIZONTAL_UNITS: METERS
HORIZONTAL_RESOLUTION: 1.00000
SECONDARY_HORIZONTAL_DATUM: NAD27
XY_ORIGIN: 432780.00000 5185020.00000
SECONDARY_XY_ORIGIN: 432840.85900 5184807.56600
NATION: US
STATE: MT
NW_QUAD_CORNER_XY: 433245.42200 5184699.92200
NE_QUAD_CORNER_XY: 438013.58600 5184648.72200
SE_QUAD_CORNERY_XY: 437941.80900 5177703.63300
SW_QUAD_CORNER_XY: 433168.12300 5177754.84000
SECONDARY_NW_QUAD_XY: 433243.37300 5184481.48800
SECONDARY_NE_QUAD_XY: 438011.68300 5184430.28600
SECONDARY_SE_QUAD_XY: 437939.90700 5177485.22800
SECONDARY_SW_QUAD_XY: 433166.07500 5177536.43700
RMSE_XY: 1.50000
IMAGE_SOURCE: BLACK AND WHITE FILM
SOURCE_IMAGE_ID: NAPP 9181 262
SOURCE_IMAGE_DATE: 1997 09 09
SOURCE_IMAGE_ID: NAPP 9181 260
SOURCE_IMAGE_DATE: 1997 09 09
SOURCE_DEM_DATE: 1993 00 00
AGENCY: WESTERN MAPPING CENTER (WMC)
PRODUCER: ANALYTICAL SURVEYS INC.
PRODUCTION_SYSTEM: ORBIT OR_RECTIFY V.5.2
COMPRESSION: UNDEFINED
STANDARD_VERSION: 1996 12
METADATA_DATE: 2001 07 20
DATA_FILE_SIZE: 42463050
BYTE_COUNT: 5550
