FILENAME: O4611109.NWS.1154568.tif
QUADRANGLE_NAME: UPPER HOLTER LAKE
QUADRANT: NW
WEST_LONGITUDE: -112 0 0.00000
EAST_LONGITUDE: -111 56 15.00000
NORTH_LATITUDE: 46 52 30.00000
SOUTH_LATITUDE: 46 48 45.00000
PRODUCTION_DATE: 2001 07 18
RASTER_ORDER: LEFT_RIGHT/TOP_BOTTOM
BAND_ORGANIZATION: SINGLE FILE
BAND_CONTENT: BLACK&WHITE
BAND_CONTENT: UNDEFINED
BAND_CONTENT: UNDEFINED
BITS_PER_PIXEL: 8
SAMPLES_AND_LINES: 5550 7650
HORIZONTAL_DATUM: NAD83
HORIZONTAL_COORDINATE_SYSTEM: UTM
COORDINATE_ZONE: 12
HORIZONTAL_UNITS: METERS
HORIZONTAL_RESOLUTION: 1.00000
SECONDARY_HORIZONTAL_DATUM: NAD27
XY_ORIGIN: 423330.00000 5192070.00000
SECONDARY_XY_ORIGIN: 423391.11200 5191857.33900
NATION: US
STATE: MT
NW_QUAD_CORNER_XY: 423797.54500 5191758.84300
NE_QUAD_CORNER_XY: 428560.17000 5191700.06500
SE_QUAD_CORNERY_XY: 428477.26300 5184754.91500
SW_QUAD_CORNER_XY: 423709.11000 5184813.70200
SECONDARY_NW_QUAD_XY: 423795.20200 5191540.38200
SECONDARY_NE_QUAD_XY: 428557.97400 5191481.60200
SECONDARY_SE_QUAD_XY: 428475.06800 5184536.48300
SECONDARY_SW_QUAD_XY: 423706.76800 5184595.27200
RMSE_XY: 2.00000
IMAGE_SOURCE: BLACK AND WHITE FILM
SOURCE_IMAGE_ID: NAPP 9182 45
SOURCE_IMAGE_DATE: 1997 09 09
SOURCE_IMAGE_ID: NAPP 9182 43
SOURCE_IMAGE_DATE: 1997 09 09
SOURCE_IMAGE_ID: NAPP 9182 18
SOURCE_IMAGE_DATE: 1997 09 09
SOURCE_DEM_DATE: 2001 01 01
AGENCY: WESTERN MAPPING CENTER (WMC)
PRODUCER: ANALYTICAL SURVEYS INC.
PRODUCTION_SYSTEM: ORBIT OR_RECTIFY V.5.2
COMPRESSION: UNDEFINED
STANDARD_VERSION: 1996 12
METADATA_DATE: 2001 08 11
DATA_FILE_SIZE: 42463050
BYTE_COUNT: 5550
