FILENAME: O4611103.NWS.1154480.tif
QUADRANGLE_NAME: MIDDLE CREEK LAKE
QUADRANT: NW
WEST_LONGITUDE: -111 45 0.00000
EAST_LONGITUDE: -111 41 15.00000
NORTH_LATITUDE: 47 0 0.00000
SOUTH_LATITUDE: 46 56 15.00000
PRODUCTION_DATE: 2001 07 17
RASTER_ORDER: LEFT_RIGHT/TOP_BOTTOM
BAND_ORGANIZATION: SINGLE FILE
BAND_CONTENT: BLACK&WHITE
BAND_CONTENT: UNDEFINED
BAND_CONTENT: UNDEFINED
BITS_PER_PIXEL: 8
SAMPLES_AND_LINES: 5520 7620
HORIZONTAL_DATUM: NAD83
HORIZONTAL_COORDINATE_SYSTEM: UTM
COORDINATE_ZONE: 12
HORIZONTAL_UNITS: METERS
HORIZONTAL_RESOLUTION: 1.00000
SECONDARY_HORIZONTAL_DATUM: NAD27
XY_ORIGIN: 442530.00000 5205750.00000
SECONDARY_XY_ORIGIN: 442590.46700 5205537.06300
NATION: US
STATE: MT
NW_QUAD_CORNER_XY: 442980.92900 5205437.05100
NE_QUAD_CORNER_XY: 447732.50200 5205393.45500
SE_QUAD_CORNERY_XY: 447671.58100 5198448.12800
SW_QUAD_CORNER_XY: 442914.46900 5198491.73000
SECONDARY_NW_QUAD_XY: 442979.17200 5205218.52500
SECONDARY_NE_QUAD_XY: 447730.89100 5205174.92800
SECONDARY_SE_QUAD_XY: 447669.97000 5198229.63000
SECONDARY_SW_QUAD_XY: 442912.71200 5198273.23300
RMSE_XY: 2.69000
IMAGE_SOURCE: BLACK AND WHITE FILM
SOURCE_IMAGE_ID: NAPP 9181 174
SOURCE_IMAGE_DATE: 1997 09 09
SOURCE_IMAGE_ID: NAPP 9181 155
SOURCE_IMAGE_DATE: 1997 09 09
SOURCE_IMAGE_ID: NAPP 9181 176
SOURCE_IMAGE_DATE: 1997 09 09
SOURCE_DEM_DATE: 1956 00 00
AGENCY: WESTERN MAPPING CENTER (WMC)
PRODUCER: ANALYTICAL SURVEYS INC.
PRODUCTION_SYSTEM: ORBIT OR_RECTIFY V.5.2
COMPRESSION: UNDEFINED
STANDARD_VERSION: 1996 12
METADATA_DATE: 2001 07 18
DATA_FILE_SIZE: 42067920
BYTE_COUNT: 5520
