FILENAME: O4611101.NES.1154471.tif
QUADRANGLE_NAME: BEARTOOTH MOUNTAIN
QUADRANT: NE
WEST_LONGITUDE: -111 56 15.00000
EAST_LONGITUDE: -111 52 30.00000
NORTH_LATITUDE: 47 0 0.00000
SOUTH_LATITUDE: 46 56 15.00000
PRODUCTION_DATE: 2001 04 13
RASTER_ORDER: LEFT_RIGHT/TOP_BOTTOM
BAND_ORGANIZATION: SINGLE FILE
BAND_CONTENT: BLACK&WHITE
BAND_CONTENT: UNDEFINED
BAND_CONTENT: UNDEFINED
BITS_PER_PIXEL: 8
SAMPLES_AND_LINES: 5520 7620
HORIZONTAL_DATUM: NAD83
HORIZONTAL_COORDINATE_SYSTEM: UTM
COORDINATE_ZONE: 12
HORIZONTAL_UNITS: METERS
HORIZONTAL_RESOLUTION: 1.00000
SECONDARY_HORIZONTAL_DATUM: NAD27
XY_ORIGIN: 428280.00000 5205900.00000
SECONDARY_XY_ORIGIN: 428340.89000 5205687.01100
NATION: US
STATE: MT
NW_QUAD_CORNER_XY: 428726.24000 5205590.58600
NE_QUAD_CORNER_XY: 433477.79800 5205535.61600
SE_QUAD_CORNERY_XY: 433400.25900 5198590.31000
SW_QUAD_CORNER_XY: 428643.16200 5198645.28800
SECONDARY_NW_QUAD_XY: 428724.04300 5205372.06500
SECONDARY_NE_QUAD_XY: 433475.74800 5205317.09300
SECONDARY_SE_QUAD_XY: 433398.21000 5198371.81600
SECONDARY_SW_QUAD_XY: 428640.96600 5198426.79600
RMSE_XY: 2.92000
IMAGE_SOURCE: BLACK AND WHITE FILM
SOURCE_IMAGE_ID: NAPP 9182 22
SOURCE_IMAGE_DATE: 1997 09 09
SOURCE_IMAGE_ID: NAPP 9182 24
SOURCE_IMAGE_DATE: 1997 09 09
SOURCE_DEM_DATE: 1997 00 00
AGENCY: WESTERN MAPPING CENTER (WMC)
PRODUCER: ANALYTICAL SURVEYS INC.
PRODUCTION_SYSTEM: ORBIT OR_RECTIFY V.5.2
COMPRESSION: UNDEFINED
STANDARD_VERSION: 1996 12
METADATA_DATE: 2001 04 16
DATA_FILE_SIZE: 42067920
BYTE_COUNT: 5520
