FILENAME: O4611101.NWS.1154472.tif
QUADRANGLE_NAME: BEARTOOTH MOUNTAIN
QUADRANT: NW
WEST_LONGITUDE: -112 0 0.00000
EAST_LONGITUDE: -111 56 15.00000
NORTH_LATITUDE: 47 0 0.00000
SOUTH_LATITUDE: 46 56 15.00000
PRODUCTION_DATE: 2001 04 13
RASTER_ORDER: LEFT_RIGHT/TOP_BOTTOM
BAND_ORGANIZATION: SINGLE FILE
BAND_CONTENT: BLACK&WHITE
BAND_CONTENT: UNDEFINED
BAND_CONTENT: UNDEFINED
BITS_PER_PIXEL: 8
SAMPLES_AND_LINES: 5520 7650
HORIZONTAL_DATUM: NAD83
HORIZONTAL_COORDINATE_SYSTEM: UTM
COORDINATE_ZONE: 12
HORIZONTAL_UNITS: METERS
HORIZONTAL_RESOLUTION: 1.00000
SECONDARY_HORIZONTAL_DATUM: NAD27
XY_ORIGIN: 423510.00000 5205960.00000
SECONDARY_XY_ORIGIN: 423571.03100 5205746.99400
NATION: US
STATE: MT
NW_QUAD_CORNER_XY: 423974.68800 5205649.34800
NE_QUAD_CORNER_XY: 428726.24000 5205590.58600
SE_QUAD_CORNERY_XY: 428643.16200 5198645.28800
SW_QUAD_CORNER_XY: 423886.07100 5198704.05900
SECONDARY_NW_QUAD_XY: 423972.34500 5205430.82800
SECONDARY_NE_QUAD_XY: 428724.04300 5205372.06500
SECONDARY_SE_QUAD_XY: 428640.96600 5198426.79600
SECONDARY_SW_QUAD_XY: 423883.72800 5198485.56800
RMSE_XY: 3.96000
IMAGE_SOURCE: BLACK AND WHITE FILM
SOURCE_IMAGE_ID: NAPP 9182 41
SOURCE_IMAGE_DATE: 1997 09 09
SOURCE_IMAGE_ID: NAPP 9182 43
SOURCE_IMAGE_DATE: 1997 09 09
SOURCE_IMAGE_ID: NAPP 9182 39
SOURCE_IMAGE_DATE: 1997 09 09
SOURCE_DEM_DATE: 1997 00 00
AGENCY: WESTERN MAPPING CENTER (WMC)
PRODUCER: ANALYTICAL SURVEYS INC.
PRODUCTION_SYSTEM: ORBIT OR_RECTIFY V.5.2
COMPRESSION: UNDEFINED
STANDARD_VERSION: 1996 12
METADATA_DATE: 2001 04 16
DATA_FILE_SIZE: 42233520
BYTE_COUNT: 5520
