FILENAME: O4611264.SWS.1076959.tif
QUADRANGLE_NAME: WILSON PARK
QUADRANT: SW
WEST_LONGITUDE: -112 7 30.00000
EAST_LONGITUDE: -112 3 45.00000
NORTH_LATITUDE: 46 3 45.00000
SOUTH_LATITUDE: 46 0 0.00000
PRODUCTION_DATE: 2000 4 20
RASTER_ORDER: LEFT_RIGHT/TOP_BOTTOM
BAND_ORGANIZATION: SINGLE FILE
BAND_CONTENT: BLACK&WHITE
BAND_CONTENT: UNDEFINED
BAND_CONTENT: UNDEFINED
BITS_PER_PIXEL: 8
SAMPLES_AND_LINES: 5600 7621
HORIZONTAL_DATUM: NAD83
HORIZONTAL_COORDINATE_SYSTEM: UTM
COORDINATE_ZONE: 12
HORIZONTAL_UNITS: METERS
HORIZONTAL_RESOLUTION: 1.00000
SECONDARY_HORIZONTAL_DATUM: NAD27
XY_ORIGIN: 412523.00000 5101907.00000
SECONDARY_XY_ORIGIN: 412584.83300 5101696.19600
NATION: US
NATION: "SCIENCE
STATE: MT
NW_QUAD_CORNER_XY: 412986.97900 5101606.88900
NE_QUAD_CORNER_XY: 417821.01500 5101540.43100
SE_QUAD_CORNERY_XY: 417728.32400 5094596.25500
SW_QUAD_CORNER_XY: 412888.83400 5094662.71900
SECONDARY_NW_QUAD_XY: 412984.35100 5101388.89500
SECONDARY_NE_QUAD_XY: 417818.53300 5101322.43500
SECONDARY_SE_QUAD_XY: 417725.84200 5094378.30100
SECONDARY_SW_QUAD_XY: 412886.20600 5094444.76600
RMSE_XY: 2.60000
IMAGE_SOURCE: BLACK AND WHITE FILM
SOURCE_IMAGE_ID: NAPP 9483 031
SOURCE_IMAGE_DATE: 1995 08 14
SOURCE_IMAGE_ID: NAPP 9483 032
SOURCE_IMAGE_DATE: 1995 08 14
SOURCE_IMAGE_ID: NAPP 9483 030
SOURCE_IMAGE_DATE: 1995 08 14
SOURCE_DEM_DATE: 1988 00 00
AGENCY: WESTERN MAPPING CENTER (WMC)
PRODUCER: UNDEFINED
PRODUCTION_SYSTEM: GIS/MAGIC
COMPRESSION: UNDEFINED
STANDARD_VERSION: 1996 12
METADATA_DATE: 2000 05 31
DATA_FILE_SIZE: 42683200
BYTE_COUNT: 5600
