FILENAME: O4611262.NWS.1076935.tif
QUADRANGLE_NAME: WHITETAIL PEAK
QUADRANT: NW
WEST_LONGITUDE: -112 22 30.00000
EAST_LONGITUDE: -112 18 45.00000
NORTH_LATITUDE: 46 7 30.00000
SOUTH_LATITUDE: 46 3 45.00000
PRODUCTION_DATE: 2000 4 11
RASTER_ORDER: LEFT_RIGHT/TOP_BOTTOM
BAND_ORGANIZATION: SINGLE FILE
BAND_CONTENT: BLACK&WHITE
BAND_CONTENT: UNDEFINED
BAND_CONTENT: UNDEFINED
BITS_PER_PIXEL: 8
SAMPLES_AND_LINES: 5617 7635
HORIZONTAL_DATUM: NAD83
HORIZONTAL_COORDINATE_SYSTEM: UTM
COORDINATE_ZONE: 12
HORIZONTAL_UNITS: METERS
HORIZONTAL_RESOLUTION: 1.00000
SECONDARY_HORIZONTAL_DATUM: NAD27
XY_ORIGIN: 393284.00000 5109155.00000
SECONDARY_XY_ORIGIN: 393346.44000 5108943.87300
NATION: US
NATION: "SCIENCE
STATE: MT
NW_QUAD_CORNER_XY: 393770.96200 5108854.93000
NE_QUAD_CORNER_XY: 398599.52200 5108773.28200
SE_QUAD_CORNERY_XY: 398484.89300 5101829.05600
SW_QUAD_CORNER_XY: 393650.87300 5101910.71000
SECONDARY_NW_QUAD_XY: 393767.74900 5108636.90400
SECONDARY_NE_QUAD_XY: 398596.45500 5108555.25400
SECONDARY_SE_QUAD_XY: 398481.82600 5101611.06900
SECONDARY_SW_QUAD_XY: 393647.66000 5101692.72500
RMSE_XY: 3.80000
IMAGE_SOURCE: BLACK AND WHITE FILM
SOURCE_IMAGE_ID: NAPP 9486 111
SOURCE_IMAGE_DATE: 1995 08 20
SOURCE_IMAGE_ID: NAPP 9486 032
SOURCE_IMAGE_DATE: 1995 08 20
SOURCE_IMAGE_ID: NAPP 9486 033
SOURCE_IMAGE_DATE: 1995 08 20
SOURCE_IMAGE_ID: NAPP 9486 112
SOURCE_IMAGE_DATE: 1995 08 20
SOURCE_IMAGE_ID: NAPP 9486 110
SOURCE_IMAGE_DATE: 1995 08 20
SOURCE_DEM_DATE: 1980 00 00
AGENCY: WESTERN MAPPING CENTER (WMC)
PRODUCER: UNDEFINED
PRODUCTION_SYSTEM: GIS/MAGIC
COMPRESSION: UNDEFINED
STANDARD_VERSION: 1996 12
METADATA_DATE: 2000 05 29
DATA_FILE_SIZE: 42891412
BYTE_COUNT: 5617
