FILENAME: O4611261.SWS.1076819.tif
QUADRANGLE_NAME: ELK PARK PASS
QUADRANT: SW
WEST_LONGITUDE: -112 30 0.00000
EAST_LONGITUDE: -112 26 15.00000
NORTH_LATITUDE: 46 3 45.00000
SOUTH_LATITUDE: 46 0 0.00000
PRODUCTION_DATE: 2000 3 30
RASTER_ORDER: LEFT_RIGHT/TOP_BOTTOM
BAND_ORGANIZATION: SINGLE FILE
BAND_CONTENT: BLACK&WHITE
BAND_CONTENT: UNDEFINED
BAND_CONTENT: UNDEFINED
BITS_PER_PIXEL: 8
SAMPLES_AND_LINES: 5634 7643
HORIZONTAL_DATUM: NAD83
HORIZONTAL_COORDINATE_SYSTEM: UTM
COORDINATE_ZONE: 12
HORIZONTAL_UNITS: METERS
HORIZONTAL_RESOLUTION: 1.00000
SECONDARY_HORIZONTAL_DATUM: NAD27
XY_ORIGIN: 383484.00000 5102386.00000
SECONDARY_XY_ORIGIN: 383546.79100 5102174.86600
NATION: US
NATION: "SCIENCE
STATE: MT
NW_QUAD_CORNER_XY: 383982.84600 5102085.41500
NE_QUAD_CORNER_XY: 388816.85700 5101996.16300
SE_QUAD_CORNERY_XY: 388691.43900 5095052.02200
SW_QUAD_CORNER_XY: 383851.97300 5095141.28100
SECONDARY_NW_QUAD_XY: 383979.34100 5101867.43500
SECONDARY_NE_QUAD_XY: 388813.49800 5101778.18000
SECONDARY_SE_QUAD_XY: 388688.08100 5094834.08100
SECONDARY_SW_QUAD_XY: 383848.46900 5094923.34200
RMSE_XY: 0.90000
IMAGE_SOURCE: BLACK AND WHITE FILM
SOURCE_IMAGE_ID: NAPP 8382 176
SOURCE_IMAGE_DATE: 1995 08 01
SOURCE_IMAGE_ID: NAPP 8382 168
SOURCE_IMAGE_DATE: 1995 08 01
SOURCE_IMAGE_ID: NAPP 8382 177
SOURCE_IMAGE_DATE: 1995 08 01
SOURCE_IMAGE_ID: NAPP 8382 175
SOURCE_IMAGE_DATE: 1995 08 01
SOURCE_DEM_DATE: 1980 00 00
AGENCY: WESTERN MAPPING CENTER (WMC)
PRODUCER: UNDEFINED
PRODUCTION_SYSTEM: GIS/MAGIC
COMPRESSION: UNDEFINED
STANDARD_VERSION: 1996 12
METADATA_DATE: 2000 05 29
DATA_FILE_SIZE: 43066296
BYTE_COUNT: 5634
