FILENAME: O4611260.NES.1076840.tif
QUADRANGLE_NAME: BUTTE NORTH
QUADRANT: NE
WEST_LONGITUDE: -112 33 45.00000
EAST_LONGITUDE: -112 30 0.00000
NORTH_LATITUDE: 46 7 30.00000
SOUTH_LATITUDE: 46 3 45.00000
PRODUCTION_DATE: 2000 5 29
RASTER_ORDER: LEFT_RIGHT/TOP_BOTTOM
BAND_ORGANIZATION: SINGLE FILE
BAND_CONTENT: BLACK&WHITE
BAND_CONTENT: UNDEFINED
BAND_CONTENT: UNDEFINED
BITS_PER_PIXEL: 8
SAMPLES_AND_LINES: 5634 7647
HORIZONTAL_DATUM: NAD83
HORIZONTAL_COORDINATE_SYSTEM: UTM
COORDINATE_ZONE: 12
HORIZONTAL_UNITS: METERS
HORIZONTAL_RESOLUTION: 1.00000
SECONDARY_HORIZONTAL_DATUM: NAD27
XY_ORIGIN: 378781.00000 5109423.00000
SECONDARY_XY_ORIGIN: 378843.89000 5109211.77100
NATION: US
NATION: "SCIENCE
STATE: MT
NW_QUAD_CORNER_XY: 379285.31300 5109122.66500
NE_QUAD_CORNER_XY: 384113.85700 5109029.62100
SE_QUAD_CORNERY_XY: 383982.84600 5102085.41500
SW_QUAD_CORNER_XY: 379148.84000 5102178.46700
SECONDARY_NW_QUAD_XY: 379281.66100 5108904.64700
SECONDARY_NE_QUAD_XY: 384110.35200 5108811.60000
SECONDARY_SE_QUAD_XY: 383979.34100 5101867.43500
SECONDARY_SW_QUAD_XY: 379145.18900 5101960.49000
RMSE_XY: 1.50000
IMAGE_SOURCE: BLACK AND WHITE FILM
SOURCE_IMAGE_ID: NAPP 8382 171
SOURCE_IMAGE_DATE: 1995 08 01
SOURCE_IMAGE_ID: NAPP 8382 170
SOURCE_IMAGE_DATE: 1995 08 01
SOURCE_IMAGE_ID: NAPP 8382 172
SOURCE_IMAGE_DATE: 1995 08 01
SOURCE_DEM_DATE: 1989 00 00
AGENCY: WESTERN MAPPING CENTER (WMC)
PRODUCER: UNDEFINED
PRODUCTION_SYSTEM: GIS/MAGIC
COMPRESSION: UNDEFINED
STANDARD_VERSION: 1996 12
METADATA_DATE: 2000 05 29
DATA_FILE_SIZE: 43088832
BYTE_COUNT: 5634
