FILENAME: O4611260.NWS.1076841.tif
QUADRANGLE_NAME: BUTTE NORTH
QUADRANT: NW
WEST_LONGITUDE: -112 37 30.00000
EAST_LONGITUDE: -112 33 45.00000
NORTH_LATITUDE: 46 7 30.00000
SOUTH_LATITUDE: 46 3 45.00000
PRODUCTION_DATE: 2000 3 30
RASTER_ORDER: LEFT_RIGHT/TOP_BOTTOM
BAND_ORGANIZATION: SINGLE FILE
BAND_CONTENT: BLACK&WHITE
BAND_CONTENT: UNDEFINED
BAND_CONTENT: UNDEFINED
BITS_PER_PIXEL: 8
SAMPLES_AND_LINES: 5640 7651
HORIZONTAL_DATUM: NAD83
HORIZONTAL_COORDINATE_SYSTEM: UTM
COORDINATE_ZONE: 12
HORIZONTAL_UNITS: METERS
HORIZONTAL_RESOLUTION: 1.00000
SECONDARY_HORIZONTAL_DATUM: NAD27
XY_ORIGIN: 373947.00000 5109520.00000
SECONDARY_XY_ORIGIN: 374010.00400 5109308.77800
NATION: US
NATION: "SCIENCE
STATE: MT
NW_QUAD_CORNER_XY: 374456.77300 5109219.50900
NE_QUAD_CORNER_XY: 379285.31300 5109122.66500
SE_QUAD_CORNERY_XY: 379148.84000 5102178.46700
SW_QUAD_CORNER_XY: 374314.83900 5102275.31900
SECONDARY_NW_QUAD_XY: 374452.97600 5109001.49400
SECONDARY_NE_QUAD_XY: 379281.66100 5108904.64700
SECONDARY_SE_QUAD_XY: 379145.18900 5101960.49000
SECONDARY_SW_QUAD_XY: 374311.04200 5102057.34500
RMSE_XY: 2.00000
IMAGE_SOURCE: BLACK AND WHITE FILM
SOURCE_IMAGE_ID: NAPP 8382 076
SOURCE_IMAGE_DATE: 1995 08 01
SOURCE_IMAGE_ID: NAPP 8382 077
SOURCE_IMAGE_DATE: 1995 08 01
SOURCE_IMAGE_ID: NAPP 8382 075
SOURCE_IMAGE_DATE: 1995 08 01
SOURCE_DEM_DATE: 1989 00 00
AGENCY: WESTERN MAPPING CENTER (WMC)
PRODUCER: UNDEFINED
PRODUCTION_SYSTEM: GIS/MAGIC
COMPRESSION: UNDEFINED
STANDARD_VERSION: 1996 12
METADATA_DATE: 2000 05 29
DATA_FILE_SIZE: 43157280
BYTE_COUNT: 5640
