FILENAME: O4611260.SES.1076842.tif
QUADRANGLE_NAME: BUTTE NORTH
QUADRANT: SE
WEST_LONGITUDE: -112 33 45.00000
EAST_LONGITUDE: -112 30 0.00000
NORTH_LATITUDE: 46 3 45.00000
SOUTH_LATITUDE: 46 0 0.00000
PRODUCTION_DATE: 2000 3 30
RASTER_ORDER: LEFT_RIGHT/TOP_BOTTOM
BAND_ORGANIZATION: SINGLE FILE
BAND_CONTENT: BLACK&WHITE
BAND_CONTENT: UNDEFINED
BAND_CONTENT: UNDEFINED
BITS_PER_PIXEL: 8
SAMPLES_AND_LINES: 5640 7647
HORIZONTAL_DATUM: NAD83
HORIZONTAL_COORDINATE_SYSTEM: UTM
COORDINATE_ZONE: 12
HORIZONTAL_UNITS: METERS
HORIZONTAL_RESOLUTION: 1.00000
SECONDARY_HORIZONTAL_DATUM: NAD27
XY_ORIGIN: 378644.00000 5102479.00000
SECONDARY_XY_ORIGIN: 378706.88800 5102267.86000
NATION: US
NATION: "SCIENCE
STATE: MT
NW_QUAD_CORNER_XY: 379148.84000 5102178.46700
NE_QUAD_CORNER_XY: 383982.84600 5102085.41500
SE_QUAD_CORNERY_XY: 383851.97300 5095141.28100
SW_QUAD_CORNER_XY: 379012.51100 5095234.34000
SECONDARY_NW_QUAD_XY: 379145.18900 5101960.49000
SECONDARY_NE_QUAD_XY: 383979.34100 5101867.43500
SECONDARY_SE_QUAD_XY: 383848.46900 5094923.34200
SECONDARY_SW_QUAD_XY: 379008.86100 5095016.40400
RMSE_XY: 1.40000
IMAGE_SOURCE: BLACK AND WHITE FILM
SOURCE_IMAGE_ID: NAPP 8382 169
SOURCE_IMAGE_DATE: 1995 08 01
SOURCE_IMAGE_ID: NAPP 8382 168
SOURCE_IMAGE_DATE: 1995 08 01
SOURCE_IMAGE_ID: NAPP 8382 175
SOURCE_IMAGE_DATE: 1995 08 01
SOURCE_DEM_DATE: 1989 00 00
AGENCY: WESTERN MAPPING CENTER (WMC)
PRODUCER: UNDEFINED
PRODUCTION_SYSTEM: GIS/MAGIC
COMPRESSION: UNDEFINED
STANDARD_VERSION: 1996 12
METADATA_DATE: 2000 05 29
DATA_FILE_SIZE: 43134720
BYTE_COUNT: 5640
