FILENAME: O4611260.SWS.1076843.tif
QUADRANGLE_NAME: BUTTE NORTH
QUADRANT: SW
WEST_LONGITUDE: -112 37 30.00000
EAST_LONGITUDE: -112 33 45.00000
NORTH_LATITUDE: 46 3 45.00000
SOUTH_LATITUDE: 46 0 0.00000
PRODUCTION_DATE: 2000 3 30
RASTER_ORDER: LEFT_RIGHT/TOP_BOTTOM
BAND_ORGANIZATION: SINGLE FILE
BAND_CONTENT: BLACK&WHITE
BAND_CONTENT: UNDEFINED
BAND_CONTENT: UNDEFINED
BITS_PER_PIXEL: 8
SAMPLES_AND_LINES: 5645 7651
HORIZONTAL_DATUM: NAD83
HORIZONTAL_COORDINATE_SYSTEM: UTM
COORDINATE_ZONE: 12
HORIZONTAL_UNITS: METERS
HORIZONTAL_RESOLUTION: 1.00000
SECONDARY_HORIZONTAL_DATUM: NAD27
XY_ORIGIN: 373805.00000 5102576.00000
SECONDARY_XY_ORIGIN: 373867.99400 5102364.85400
NATION: US
NATION: "SCIENCE
STATE: MT
NW_QUAD_CORNER_XY: 374314.83900 5102275.31900
NE_QUAD_CORNER_XY: 379148.84000 5102178.46700
SE_QUAD_CORNERY_XY: 379012.51100 5095234.34000
SW_QUAD_CORNER_XY: 374173.05400 5095331.19900
SECONDARY_NW_QUAD_XY: 374311.04200 5102057.34500
SECONDARY_NE_QUAD_XY: 379145.18900 5101960.49000
SECONDARY_SE_QUAD_XY: 379008.86100 5095016.40400
SECONDARY_SW_QUAD_XY: 374169.25800 5095113.26600
RMSE_XY: 2.10000
IMAGE_SOURCE: BLACK AND WHITE FILM
SOURCE_IMAGE_ID: NAPP 8382 078
SOURCE_IMAGE_DATE: 1995 08 01
SOURCE_IMAGE_ID: NAPP 8382 079
SOURCE_IMAGE_DATE: 1995 08 01
SOURCE_DEM_DATE: 1989 00 00
AGENCY: WESTERN MAPPING CENTER (WMC)
PRODUCER: UNDEFINED
PRODUCTION_SYSTEM: GIS/MAGIC
COMPRESSION: UNDEFINED
STANDARD_VERSION: 1996 12
METADATA_DATE: 2000 05 29
DATA_FILE_SIZE: 43195540
BYTE_COUNT: 5645
