FILENAME: O4611259.NWS.1076829.tif
QUADRANGLE_NAME: RAMSAY
QUADRANT: NW
WEST_LONGITUDE: -112 45 0.00000
EAST_LONGITUDE: -112 41 15.00000
NORTH_LATITUDE: 46 7 30.00000
SOUTH_LATITUDE: 46 3 45.00000
PRODUCTION_DATE: 2000 3 30
RASTER_ORDER: LEFT_RIGHT/TOP_BOTTOM
BAND_ORGANIZATION: SINGLE FILE
BAND_CONTENT: BLACK&WHITE
BAND_CONTENT: UNDEFINED
BAND_CONTENT: UNDEFINED
BITS_PER_PIXEL: 8
SAMPLES_AND_LINES: 5652 7658
HORIZONTAL_DATUM: NAD83
HORIZONTAL_COORDINATE_SYSTEM: UTM
COORDINATE_ZONE: 12
HORIZONTAL_UNITS: METERS
HORIZONTAL_RESOLUTION: 1.00000
SECONDARY_HORIZONTAL_DATUM: NAD27
XY_ORIGIN: 364278.00000 5109725.00000
SECONDARY_XY_ORIGIN: 364341.23200 5109513.79200
NATION: US
NATION: "SCIENCE
STATE: MT
NW_QUAD_CORNER_XY: 364799.71200 5109424.59700
NE_QUAD_CORNER_XY: 369628.24000 5109320.15300
SE_QUAD_CORNERY_XY: 369480.84300 5102375.97100
SW_QUAD_CORNER_XY: 364646.85300 5102480.42300
SECONDARY_NW_QUAD_XY: 364795.62200 5109206.58800
SECONDARY_NE_QUAD_XY: 369624.29600 5109102.14100
SECONDARY_SE_QUAD_XY: 369476.90000 5102158.00000
SECONDARY_SW_QUAD_XY: 364642.76400 5102262.45500
RMSE_XY: 1.50000
IMAGE_SOURCE: BLACK AND WHITE FILM
SOURCE_IMAGE_ID: NAPP 9485 046
SOURCE_IMAGE_DATE: 1995 08 20
SOURCE_IMAGE_ID: NAPP 9485 045
SOURCE_IMAGE_DATE: 1995 08 20
SOURCE_DEM_DATE: 1954 00 00
AGENCY: WESTERN MAPPING CENTER (WMC)
PRODUCER: UNDEFINED
PRODUCTION_SYSTEM: GIS/MAGIC
COMPRESSION: UNDEFINED
STANDARD_VERSION: 1996 12
METADATA_DATE: 2000 05 29
DATA_FILE_SIZE: 43288668
BYTE_COUNT: 5652
