FILENAME: O4611259.SES.1076830.tif
QUADRANGLE_NAME: RAMSAY
QUADRANT: SE
WEST_LONGITUDE: -112 41 15.00000
EAST_LONGITUDE: -112 37 30.00000
NORTH_LATITUDE: 46 3 45.00000
SOUTH_LATITUDE: 46 0 0.00000
PRODUCTION_DATE: 2000 3 30
RASTER_ORDER: LEFT_RIGHT/TOP_BOTTOM
BAND_ORGANIZATION: SINGLE FILE
BAND_CONTENT: BLACK&WHITE
BAND_CONTENT: UNDEFINED
BAND_CONTENT: UNDEFINED
BITS_PER_PIXEL: 8
SAMPLES_AND_LINES: 5651 7654
HORIZONTAL_DATUM: NAD83
HORIZONTAL_COORDINATE_SYSTEM: UTM
COORDINATE_ZONE: 12
HORIZONTAL_UNITS: METERS
HORIZONTAL_RESOLUTION: 1.00000
SECONDARY_HORIZONTAL_DATUM: NAD27
XY_ORIGIN: 368965.00000 5102676.00000
SECONDARY_XY_ORIGIN: 369028.10000 5102464.84800
NATION: US
NATION: "SCIENCE
STATE: MT
NW_QUAD_CORNER_XY: 369480.84300 5102375.97100
NE_QUAD_CORNER_XY: 374314.83900 5102275.31900
SE_QUAD_CORNERY_XY: 374173.05400 5095331.19900
SW_QUAD_CORNER_XY: 369333.60300 5095431.85900
SECONDARY_NW_QUAD_XY: 369476.90000 5102158.00000
SECONDARY_NE_QUAD_XY: 374311.04200 5102057.34500
SECONDARY_SE_QUAD_XY: 374169.25800 5095113.26600
SECONDARY_SW_QUAD_XY: 369329.66100 5095213.92900
RMSE_XY: 1.20000
IMAGE_SOURCE: BLACK AND WHITE FILM
SOURCE_IMAGE_ID: NAPP 8382 046
SOURCE_IMAGE_DATE: 1995 08 01
SOURCE_IMAGE_ID: NAPP 9485 047
SOURCE_IMAGE_DATE: 1995 08 20
SOURCE_DEM_DATE: 1954 00 00
AGENCY: WESTERN MAPPING CENTER (WMC)
PRODUCER: UNDEFINED
PRODUCTION_SYSTEM: GIS/MAGIC
COMPRESSION: UNDEFINED
STANDARD_VERSION: 1996 12
METADATA_DATE: 2000 05 29
DATA_FILE_SIZE: 43258405
BYTE_COUNT: 5651
