FILENAME: O4611258.NES.1076792.tif
QUADRANGLE_NAME: OPPORTUNITY
QUADRANT: NE
WEST_LONGITUDE: -112 48 45.00000
EAST_LONGITUDE: -112 45 0.00000
NORTH_LATITUDE: 46 7 30.00000
SOUTH_LATITUDE: 46 3 45.00000
PRODUCTION_DATE: 2000 3 30
RASTER_ORDER: LEFT_RIGHT/TOP_BOTTOM
BAND_ORGANIZATION: SINGLE FILE
BAND_CONTENT: BLACK&WHITE
BAND_CONTENT: UNDEFINED
BAND_CONTENT: UNDEFINED
BITS_PER_PIXEL: 8
SAMPLES_AND_LINES: 5657 7662
HORIZONTAL_DATUM: NAD83
HORIZONTAL_COORDINATE_SYSTEM: UTM
COORDINATE_ZONE: 12
HORIZONTAL_UNITS: METERS
HORIZONTAL_RESOLUTION: 1.00000
SECONDARY_HORIZONTAL_DATUM: NAD27
XY_ORIGIN: 359444.00000 5109833.00000
SECONDARY_XY_ORIGIN: 359507.24900 5109621.72700
NATION: US
NATION: "SCIENCE
STATE: MT
NW_QUAD_CORNER_XY: 359971.19000 5109532.84100
NE_QUAD_CORNER_XY: 364799.71200 5109424.59700
SE_QUAD_CORNERY_XY: 364646.85300 5102480.42300
SW_QUAD_CORNER_XY: 359812.86900 5102588.67600
SECONDARY_NW_QUAD_XY: 359966.95400 5109314.83600
SECONDARY_NE_QUAD_XY: 364795.62200 5109206.58800
SECONDARY_SE_QUAD_XY: 364642.76400 5102262.45500
SECONDARY_SW_QUAD_XY: 359808.63400 5102370.71100
RMSE_XY: 1.00000
IMAGE_SOURCE: BLACK AND WHITE FILM
SOURCE_IMAGE_ID: NAPP 9485 053
SOURCE_IMAGE_DATE: 1995 08 20
SOURCE_IMAGE_ID: NAPP 8380 008
SOURCE_IMAGE_DATE: 1995 06 30
SOURCE_IMAGE_ID: NAPP 9485 054
SOURCE_IMAGE_DATE: 1995 08 20
SOURCE_DEM_DATE: 1956 00 00
AGENCY: WESTERN MAPPING CENTER (WMC)
PRODUCER: UNDEFINED
PRODUCTION_SYSTEM: GIS/MAGIC
COMPRESSION: UNDEFINED
STANDARD_VERSION: 1996 12
METADATA_DATE: 2000 05 29
DATA_FILE_SIZE: 43349591
BYTE_COUNT: 5657
