FILENAME: O4611258.NWS.1076793.tif
QUADRANGLE_NAME: OPPORTUNITY
QUADRANT: NW
WEST_LONGITUDE: -112 52 30.00000
EAST_LONGITUDE: -112 48 45.00000
NORTH_LATITUDE: 46 7 30.00000
SOUTH_LATITUDE: 46 3 45.00000
PRODUCTION_DATE: 2000 3 30
RASTER_ORDER: LEFT_RIGHT/TOP_BOTTOM
BAND_ORGANIZATION: SINGLE FILE
BAND_CONTENT: BLACK&WHITE
BAND_CONTENT: UNDEFINED
BAND_CONTENT: UNDEFINED
BITS_PER_PIXEL: 8
SAMPLES_AND_LINES: 5663 7666
HORIZONTAL_DATUM: NAD83
HORIZONTAL_COORDINATE_SYSTEM: UTM
COORDINATE_ZONE: 12
HORIZONTAL_UNITS: METERS
HORIZONTAL_RESOLUTION: 1.00000
SECONDARY_HORIZONTAL_DATUM: NAD27
XY_ORIGIN: 354610.00000 5109945.00000
SECONDARY_XY_ORIGIN: 354673.26700 5109733.66000
NATION: US
NATION: "SCIENCE
STATE: MT
NW_QUAD_CORNER_XY: 355142.67500 5109644.88600
NE_QUAD_CORNER_XY: 359971.19000 5109532.84100
SE_QUAD_CORNERY_XY: 359812.86900 5102588.67600
SW_QUAD_CORNER_XY: 354978.89100 5102700.73000
SECONDARY_NW_QUAD_XY: 355138.29300 5109426.88400
SECONDARY_NE_QUAD_XY: 359966.95400 5109314.83600
SECONDARY_SE_QUAD_XY: 359808.63400 5102370.71100
SECONDARY_SW_QUAD_XY: 354974.51000 5102482.76800
RMSE_XY: 0.90000
IMAGE_SOURCE: BLACK AND WHITE FILM
SOURCE_IMAGE_ID: NAPP 8380 009
SOURCE_IMAGE_DATE: 1995 06 30
SOURCE_IMAGE_ID: NAPP 9491 095
SOURCE_IMAGE_DATE: 1995 09 01
SOURCE_IMAGE_ID: NAPP 8380 008
SOURCE_IMAGE_DATE: 1995 06 30
SOURCE_IMAGE_ID: NAPP 8380 010
SOURCE_IMAGE_DATE: 1995 06 30
SOURCE_DEM_DATE: 1956 00 00
AGENCY: WESTERN MAPPING CENTER (WMC)
PRODUCER: UNDEFINED
PRODUCTION_SYSTEM: GIS/MAGIC
COMPRESSION: UNDEFINED
STANDARD_VERSION: 1996 12
METADATA_DATE: 2000 05 29
DATA_FILE_SIZE: 43418221
BYTE_COUNT: 5663
