FILENAME: O4611258.SWS.1076795.tif
QUADRANGLE_NAME: OPPORTUNITY
QUADRANT: SW
WEST_LONGITUDE: -112 52 30.00000
EAST_LONGITUDE: -112 48 45.00000
NORTH_LATITUDE: 46 3 45.00000
SOUTH_LATITUDE: 46 0 0.00000
PRODUCTION_DATE: 2000 3 30
RASTER_ORDER: LEFT_RIGHT/TOP_BOTTOM
BAND_ORGANIZATION: SINGLE FILE
BAND_CONTENT: BLACK&WHITE
BAND_CONTENT: UNDEFINED
BAND_CONTENT: UNDEFINED
BITS_PER_PIXEL: 8
SAMPLES_AND_LINES: 5668 7666
HORIZONTAL_DATUM: NAD83
HORIZONTAL_COORDINATE_SYSTEM: UTM
COORDINATE_ZONE: 12
HORIZONTAL_UNITS: METERS
HORIZONTAL_RESOLUTION: 1.00000
SECONDARY_HORIZONTAL_DATUM: NAD27
XY_ORIGIN: 354446.00000 5103001.00000
SECONDARY_XY_ORIGIN: 354509.28400 5102789.73700
NATION: US
NATION: "SCIENCE
STATE: MT
NW_QUAD_CORNER_XY: 354978.89100 5102700.73000
NE_QUAD_CORNER_XY: 359812.86900 5102588.67600
SE_QUAD_CORNERY_XY: 359654.71500 5095644.58000
SW_QUAD_CORNER_XY: 354815.28000 5095756.64200
SECONDARY_NW_QUAD_XY: 354974.51000 5102482.76800
SECONDARY_NE_QUAD_XY: 359808.63400 5102370.71100
SECONDARY_SE_QUAD_XY: 359650.48100 5095426.65700
SECONDARY_SW_QUAD_XY: 354810.90000 5095538.72200
RMSE_XY: 2.10000
IMAGE_SOURCE: BLACK AND WHITE FILM
SOURCE_IMAGE_ID: NAPP 8380 007
SOURCE_IMAGE_DATE: 1995 06 30
SOURCE_IMAGE_ID: NAPP 9483 143
SOURCE_IMAGE_DATE: 1995 08 14
SOURCE_IMAGE_ID: NAPP 9485 217
SOURCE_IMAGE_DATE: 1995 08 20
SOURCE_IMAGE_ID: NAPP 8380 008
SOURCE_IMAGE_DATE: 1995 06 30
SOURCE_DEM_DATE: 1956 00 00
AGENCY: WESTERN MAPPING CENTER (WMC)
PRODUCER: UNDEFINED
PRODUCTION_SYSTEM: GIS/MAGIC
COMPRESSION: UNDEFINED
STANDARD_VERSION: 1996 12
METADATA_DATE: 2000 05 29
DATA_FILE_SIZE: 43456556
BYTE_COUNT: 5668
