FILENAME: O4611257.NWS.1076781.tif
QUADRANGLE_NAME: ANACONDA SOUTH
QUADRANT: NW
WEST_LONGITUDE: -113 0 0.00000
EAST_LONGITUDE: -112 56 15.00000
NORTH_LATITUDE: 46 7 30.00000
SOUTH_LATITUDE: 46 3 45.00000
PRODUCTION_DATE: 2000 4 4
RASTER_ORDER: LEFT_RIGHT/TOP_BOTTOM
BAND_ORGANIZATION: SINGLE FILE
BAND_CONTENT: BLACK&WHITE
BAND_CONTENT: UNDEFINED
BAND_CONTENT: UNDEFINED
BITS_PER_PIXEL: 8
SAMPLES_AND_LINES: 5675 7674
HORIZONTAL_DATUM: NAD83
HORIZONTAL_COORDINATE_SYSTEM: UTM
COORDINATE_ZONE: 12
HORIZONTAL_UNITS: METERS
HORIZONTAL_RESOLUTION: 1.00000
SECONDARY_HORIZONTAL_DATUM: NAD27
XY_ORIGIN: 344941.00000 5110181.00000
SECONDARY_XY_ORIGIN: 345004.30200 5109969.52600
NATION: US
NATION: "SCIENCE
STATE: MT
NW_QUAD_CORNER_XY: 345485.66500 5109880.37700
NE_QUAD_CORNER_XY: 350314.16700 5109760.73100
SE_QUAD_CORNERY_XY: 350144.91900 5102816.58400
SW_QUAD_CORNER_XY: 345310.95300 5102936.24000
SECONDARY_NW_QUAD_XY: 345480.99100 5109662.38200
SECONDARY_NE_QUAD_XY: 350309.63800 5109542.73200
SECONDARY_SE_QUAD_XY: 350140.39100 5102598.62700
SECONDARY_SW_QUAD_XY: 345306.28000 5102718.28600
RMSE_XY: 2.10000
IMAGE_SOURCE: BLACK AND WHITE FILM
SOURCE_IMAGE_ID: NAPP 9485 109
SOURCE_IMAGE_DATE: 1995 08 20
SOURCE_IMAGE_ID: NAPP 9485 110
SOURCE_IMAGE_DATE: 1995 08 20
SOURCE_DEM_DATE: 1989 00 00
AGENCY: WESTERN MAPPING CENTER (WMC)
PRODUCER: UNDEFINED
PRODUCTION_SYSTEM: GIS/MAGIC
COMPRESSION: UNDEFINED
STANDARD_VERSION: 1996 12
METADATA_DATE: 2000 05 29
DATA_FILE_SIZE: 43555625
BYTE_COUNT: 5675
