FILENAME: O4611257.SES.1076782.tif
QUADRANGLE_NAME: ANACONDA SOUTH
QUADRANT: SE
WEST_LONGITUDE: -112 56 15.00000
EAST_LONGITUDE: -112 52 30.00000
NORTH_LATITUDE: 46 3 45.00000
SOUTH_LATITUDE: 46 0 0.00000
PRODUCTION_DATE: 2000 4 4
RASTER_ORDER: LEFT_RIGHT/TOP_BOTTOM
BAND_ORGANIZATION: SINGLE FILE
BAND_CONTENT: BLACK&WHITE
BAND_CONTENT: UNDEFINED
BAND_CONTENT: UNDEFINED
BITS_PER_PIXEL: 8
SAMPLES_AND_LINES: 5674 7670
HORIZONTAL_DATUM: NAD83
HORIZONTAL_COORDINATE_SYSTEM: UTM
COORDINATE_ZONE: 12
HORIZONTAL_UNITS: METERS
HORIZONTAL_RESOLUTION: 1.00000
SECONDARY_HORIZONTAL_DATUM: NAD27
XY_ORIGIN: 349606.00000 5103117.00000
SECONDARY_XY_ORIGIN: 349669.32100 5102905.68200
NATION: US
NATION: "SCIENCE
STATE: MT
NW_QUAD_CORNER_XY: 350144.91900 5102816.58400
NE_QUAD_CORNER_XY: 354978.89100 5102700.73000
SE_QUAD_CORNERY_XY: 354815.28000 5095756.64200
SW_QUAD_CORNER_XY: 349975.85000 5095872.50500
SECONDARY_NW_QUAD_XY: 350140.39100 5102598.62700
SECONDARY_NE_QUAD_XY: 354974.51000 5102482.76800
SECONDARY_SE_QUAD_XY: 354810.90000 5095538.72200
SECONDARY_SW_QUAD_XY: 349971.32400 5095654.58900
RMSE_XY: 3.10000
IMAGE_SOURCE: BLACK AND WHITE FILM
SOURCE_IMAGE_ID: NAPP 9491 098
SOURCE_IMAGE_DATE: 1995 09 01
SOURCE_IMAGE_ID: NAPP 9483 143
SOURCE_IMAGE_DATE: 1995 08 14
SOURCE_IMAGE_ID: NAPP 9491 097
SOURCE_IMAGE_DATE: 1995 09 01
SOURCE_IMAGE_ID: NAPP 8380 007
SOURCE_IMAGE_DATE: 1995 06 30
SOURCE_DEM_DATE: 1989 00 00
AGENCY: WESTERN MAPPING CENTER (WMC)
PRODUCER: UNDEFINED
PRODUCTION_SYSTEM: GIS/MAGIC
COMPRESSION: UNDEFINED
STANDARD_VERSION: 1996 12
METADATA_DATE: 2000 05 29
DATA_FILE_SIZE: 43525254
BYTE_COUNT: 5674
