FILENAME: O4611256.NES.1076976.tif
QUADRANGLE_NAME: BOULDER EAST
QUADRANT: NE
WEST_LONGITUDE: -112 3 45.00000
EAST_LONGITUDE: -112 0 0.00000
NORTH_LATITUDE: 46 15 0.00000
SOUTH_LATITUDE: 46 11 15.00000
PRODUCTION_DATE: 2000 5 2
RASTER_ORDER: LEFT_RIGHT/TOP_BOTTOM
BAND_ORGANIZATION: SINGLE FILE
BAND_CONTENT: BLACK&WHITE
BAND_CONTENT: UNDEFINED
BAND_CONTENT: UNDEFINED
BITS_PER_PIXEL: 8
SAMPLES_AND_LINES: 5578 7617
HORIZONTAL_DATUM: NAD83
HORIZONTAL_COORDINATE_SYSTEM: UTM
COORDINATE_ZONE: 12
HORIZONTAL_UNITS: METERS
HORIZONTAL_RESOLUTION: 1.00000
SECONDARY_HORIZONTAL_DATUM: NAD27
XY_ORIGIN: 417641.00000 5122674.00000
SECONDARY_XY_ORIGIN: 417702.63500 5122463.02800
NATION: US
NATION: "SCIENCE
STATE: MT
NW_QUAD_CORNER_XY: 418099.68000 5122373.40000
NE_QUAD_CORNER_XY: 422917.32500 5122310.75600
SE_QUAD_CORNERY_XY: 422829.80900 5115366.35300
SW_QUAD_CORNER_XY: 418006.69400 5115429.00300
SECONDARY_NW_QUAD_XY: 418097.19600 5122155.28400
SECONDARY_NE_QUAD_XY: 422914.98700 5122092.63800
SECONDARY_SE_QUAD_XY: 422827.47200 5115148.27500
SECONDARY_SW_QUAD_XY: 418004.21000 5115210.92600
RMSE_XY: 3.10000
IMAGE_SOURCE: BLACK AND WHITE FILM
SOURCE_IMAGE_ID: NAPP 9491 110
SOURCE_IMAGE_DATE: 1995 09 01
SOURCE_IMAGE_ID: NAPP 9483 024
SOURCE_IMAGE_DATE: 1995 08 14
SOURCE_IMAGE_ID: NAPP 9491 111
SOURCE_IMAGE_DATE: 1995 09 01
SOURCE_IMAGE_ID: NAPP 9491 109
SOURCE_IMAGE_DATE: 1995 09 01
SOURCE_IMAGE_ID: NAPP 9483 008
SOURCE_IMAGE_DATE: 1995 08 14
SOURCE_DEM_DATE: 1992 00 00
AGENCY: WESTERN MAPPING CENTER (WMC)
PRODUCER: UNDEFINED
PRODUCTION_SYSTEM: GIS/MAGIC
COMPRESSION: UNDEFINED
STANDARD_VERSION: 1996 12
METADATA_DATE: 2000 05 31
DATA_FILE_SIZE: 42493204
BYTE_COUNT: 5578
