FILENAME: O4611256.SES.1076978.tif
QUADRANGLE_NAME: BOULDER EAST
QUADRANT: SE
WEST_LONGITUDE: -112 3 45.00000
EAST_LONGITUDE: -112 0 0.00000
NORTH_LATITUDE: 46 11 15.00000
SOUTH_LATITUDE: 46 7 30.00000
PRODUCTION_DATE: 2000 5 2
RASTER_ORDER: LEFT_RIGHT/TOP_BOTTOM
BAND_ORGANIZATION: SINGLE FILE
BAND_CONTENT: BLACK&WHITE
BAND_CONTENT: UNDEFINED
BAND_CONTENT: UNDEFINED
BITS_PER_PIXEL: 8
SAMPLES_AND_LINES: 5583 7618
HORIZONTAL_DATUM: NAD83
HORIZONTAL_COORDINATE_SYSTEM: UTM
COORDINATE_ZONE: 12
HORIZONTAL_UNITS: METERS
HORIZONTAL_RESOLUTION: 1.00000
SECONDARY_HORIZONTAL_DATUM: NAD27
XY_ORIGIN: 417548.00000 5115730.00000
SECONDARY_XY_ORIGIN: 417609.65900 5115519.10300
NATION: US
NATION: "SCIENCE
STATE: MT
NW_QUAD_CORNER_XY: 418006.69400 5115429.00300
NE_QUAD_CORNER_XY: 422829.80900 5115366.35300
SE_QUAD_CORNERY_XY: 422742.38600 5108422.02500
SW_QUAD_CORNER_XY: 417913.80500 5108484.68000
SECONDARY_NW_QUAD_XY: 418004.21000 5115210.92600
SECONDARY_NE_QUAD_XY: 422827.47200 5115148.27500
SECONDARY_SE_QUAD_XY: 422740.04900 5108203.98600
SECONDARY_SW_QUAD_XY: 417911.32200 5108266.64300
RMSE_XY: 3.90000
IMAGE_SOURCE: BLACK AND WHITE FILM
SOURCE_IMAGE_ID: NAPP 9491 112
SOURCE_IMAGE_DATE: 1995 09 01
SOURCE_IMAGE_ID: NAPP 9483 027
SOURCE_IMAGE_DATE: 1995 08 14
SOURCE_IMAGE_ID: NAPP 9483 026
SOURCE_IMAGE_DATE: 1995 08 14
SOURCE_IMAGE_ID: NAPP 9491 113
SOURCE_IMAGE_DATE: 1995 09 01
SOURCE_IMAGE_ID: NAPP 9491 111
SOURCE_IMAGE_DATE: 1995 09 01
SOURCE_DEM_DATE: 1992 00 00
AGENCY: WESTERN MAPPING CENTER (WMC)
PRODUCER: UNDEFINED
PRODUCTION_SYSTEM: GIS/MAGIC
COMPRESSION: UNDEFINED
STANDARD_VERSION: 1996 12
METADATA_DATE: 2000 05 31
DATA_FILE_SIZE: 42536877
BYTE_COUNT: 5583
