FILENAME: O4611254.SES.1076814.tif
QUADRANGLE_NAME: BISON CANYON
QUADRANT: SE
WEST_LONGITUDE: -112 18 45.00000
EAST_LONGITUDE: -112 15 0.00000
NORTH_LATITUDE: 46 11 15.00000
SOUTH_LATITUDE: 46 7 30.00000
PRODUCTION_DATE: 2000 3 21
RASTER_ORDER: LEFT_RIGHT/TOP_BOTTOM
BAND_ORGANIZATION: SINGLE FILE
BAND_CONTENT: BLACK&WHITE
BAND_CONTENT: UNDEFINED
BAND_CONTENT: UNDEFINED
BITS_PER_PIXEL: 8
SAMPLES_AND_LINES: 5606 7632
HORIZONTAL_DATUM: NAD83
HORIZONTAL_COORDINATE_SYSTEM: UTM
COORDINATE_ZONE: 12
HORIZONTAL_UNITS: METERS
HORIZONTAL_RESOLUTION: 1.00000
SECONDARY_HORIZONTAL_DATUM: NAD27
XY_ORIGIN: 398233.00000 5116018.00000
SECONDARY_XY_ORIGIN: 398295.26600 5115806.83300
NATION: US
NATION: "SCIENCE
STATE: MT
NW_QUAD_CORNER_XY: 398714.27300 5115717.58100
NE_QUAD_CORNER_XY: 403537.37200 5115639.73900
SE_QUAD_CORNERY_XY: 403428.08700 5108695.43400
SW_QUAD_CORNER_XY: 398599.52200 5108773.28200
SECONDARY_NW_QUAD_XY: 398711.20500 5115499.51300
SECONDARY_NE_QUAD_XY: 403534.45000 5115421.66900
SECONDARY_SE_QUAD_XY: 403425.16600 5108477.40400
SECONDARY_SW_QUAD_XY: 398596.45500 5108555.25400
RMSE_XY: 4.50000
IMAGE_SOURCE: BLACK AND WHITE FILM
SOURCE_IMAGE_ID: NAPP 9484 127
SOURCE_IMAGE_DATE: 1995 08 14
SOURCE_IMAGE_ID: NAPP 9484 126
SOURCE_IMAGE_DATE: 1995 08 14
SOURCE_IMAGE_ID: NAPP 9484 128
SOURCE_IMAGE_DATE: 1995 08 14
SOURCE_DEM_DATE: 1980 00 00
AGENCY: WESTERN MAPPING CENTER (WMC)
PRODUCER: UNDEFINED
PRODUCTION_SYSTEM: GIS/MAGIC
COMPRESSION: UNDEFINED
STANDARD_VERSION: 1996 12
METADATA_DATE: 2000 05 29
DATA_FILE_SIZE: 42790598
BYTE_COUNT: 5606
