FILENAME: O4611253.SWS.1076811.tif
QUADRANGLE_NAME: SHEEPSHEAD MOUNTAIN
QUADRANT: SW
WEST_LONGITUDE: -112 30 0.00000
EAST_LONGITUDE: -112 26 15.00000
NORTH_LATITUDE: 46 11 15.00000
SOUTH_LATITUDE: 46 7 30.00000
PRODUCTION_DATE: 2000 3 21
RASTER_ORDER: LEFT_RIGHT/TOP_BOTTOM
BAND_ORGANIZATION: SINGLE FILE
BAND_CONTENT: BLACK&WHITE
BAND_CONTENT: UNDEFINED
BAND_CONTENT: UNDEFINED
BITS_PER_PIXEL: 8
SAMPLES_AND_LINES: 5624 7643
HORIZONTAL_DATUM: NAD83
HORIZONTAL_COORDINATE_SYSTEM: UTM
COORDINATE_ZONE: 12
HORIZONTAL_UNITS: METERS
HORIZONTAL_RESOLUTION: 1.00000
SECONDARY_HORIZONTAL_DATUM: NAD27
XY_ORIGIN: 383746.00000 5116274.00000
SECONDARY_XY_ORIGIN: 383808.77900 5116062.65900
NATION: US
NATION: "SCIENCE
STATE: MT
NW_QUAD_CORNER_XY: 384245.00800 5115973.89700
NE_QUAD_CORNER_XY: 389068.09100 5115884.66000
SE_QUAD_CORNERY_XY: 388942.40700 5108940.37600
SW_QUAD_CORNER_XY: 384113.85700 5109029.62100
SECONDARY_NW_QUAD_XY: 384241.50200 5115755.83700
SECONDARY_NE_QUAD_XY: 389064.73100 5115666.59700
SECONDARY_SE_QUAD_XY: 388939.04800 5108722.35200
SECONDARY_SW_QUAD_XY: 384110.35200 5108811.60000
RMSE_XY: 4.60000
IMAGE_SOURCE: BLACK AND WHITE FILM
SOURCE_IMAGE_ID: NAPP 9486 200
SOURCE_IMAGE_DATE: 1995 08 20
SOURCE_IMAGE_ID: NAPP 9486 199
SOURCE_IMAGE_DATE: 1995 08 20
SOURCE_IMAGE_ID: NAPP 9486 035
SOURCE_IMAGE_DATE: 1995 08 20
SOURCE_DEM_DATE: 1985 00 00
AGENCY: WESTERN MAPPING CENTER (WMC)
PRODUCER: UNDEFINED
PRODUCTION_SYSTEM: GIS/MAGIC
COMPRESSION: UNDEFINED
STANDARD_VERSION: 1996 12
METADATA_DATE: 2000 05 29
DATA_FILE_SIZE: 42989856
BYTE_COUNT: 5624
