FILENAME: O4611252.NWS.1076837.tif
QUADRANGLE_NAME: LOCKHART MEADOWS
QUADRANT: NW
WEST_LONGITUDE: -112 37 30.00000
EAST_LONGITUDE: -112 33 45.00000
NORTH_LATITUDE: 46 15 0.00000
SOUTH_LATITUDE: 46 11 15.00000
PRODUCTION_DATE: 2000 3 21
RASTER_ORDER: LEFT_RIGHT/TOP_BOTTOM
BAND_ORGANIZATION: SINGLE FILE
BAND_CONTENT: BLACK&WHITE
BAND_CONTENT: UNDEFINED
BAND_CONTENT: UNDEFINED
BITS_PER_PIXEL: 8
SAMPLES_AND_LINES: 5629 7651
HORIZONTAL_DATUM: NAD83
HORIZONTAL_COORDINATE_SYSTEM: UTM
COORDINATE_ZONE: 12
HORIZONTAL_UNITS: METERS
HORIZONTAL_RESOLUTION: 1.00000
SECONDARY_HORIZONTAL_DATUM: NAD27
XY_ORIGIN: 374231.00000 5123409.00000
SECONDARY_XY_ORIGIN: 374294.02400 5123197.62800
NATION: US
NATION: "SCIENCE
STATE: MT
NW_QUAD_CORNER_XY: 374741.09400 5123108.10000
NE_QUAD_CORNER_XY: 379558.69200 5123011.27300
SE_QUAD_CORNERY_XY: 379421.93000 5116066.93400
SW_QUAD_CORNER_XY: 374598.85800 5116163.77000
SECONDARY_NW_QUAD_XY: 374737.29400 5122890.00700
SECONDARY_NE_QUAD_XY: 379555.03900 5122793.17700
SECONDARY_SE_QUAD_XY: 379418.27800 5115848.87600
SECONDARY_SW_QUAD_XY: 374595.06000 5115945.71500
RMSE_XY: 2.40000
IMAGE_SOURCE: BLACK AND WHITE FILM
SOURCE_IMAGE_ID: NAPP 8382 072
SOURCE_IMAGE_DATE: 1995 08 01
SOURCE_IMAGE_ID: NAPP 8382 073
SOURCE_IMAGE_DATE: 1995 08 01
SOURCE_IMAGE_ID: NAPP 9491 100
SOURCE_IMAGE_DATE: 1995 09 01
SOURCE_IMAGE_ID: NAPP 9486 118
SOURCE_IMAGE_DATE: 1995 08 20
SOURCE_DEM_DATE: 1954 00 00
AGENCY: WESTERN MAPPING CENTER (WMC)
PRODUCER: UNDEFINED
PRODUCTION_SYSTEM: GIS/MAGIC
COMPRESSION: UNDEFINED
STANDARD_VERSION: 1996 12
METADATA_DATE: 2000 05 29
DATA_FILE_SIZE: 43073108
BYTE_COUNT: 5629
